BEGIN:VCALENDAR
VERSION:2.0
PRODID:-//Patriot Guard Riders - ECPv5.6.0//NONSGML v1.0//EN
CALSCALE:GREGORIAN
METHOD:PUBLISH
X-WR-CALNAME:Patriot Guard Riders
X-ORIGINAL-URL:https://www.patriotguard.org
X-WR-CALDESC:Events for Patriot Guard Riders
BEGIN:VTIMEZONE
TZID:America/New_York
BEGIN:DAYLIGHT
TZOFFSETFROM:-0500
TZOFFSETTO:-0400
TZNAME:EDT
DTSTART:20160313T070000
END:DAYLIGHT
BEGIN:STANDARD
TZOFFSETFROM:-0400
TZOFFSETTO:-0500
TZNAME:EST
DTSTART:20161106T060000
END:STANDARD
END:VTIMEZONE
BEGIN:VEVENT
DTSTART;TZID=America/New_York:20160826T090000
DTEND;TZID=America/New_York:20160826T110000
DTSTAMP:20210512T021828
CREATED:20160826T130000Z
LAST-MODIFIED:20191201T143336Z
UID:409680-1472202000-1472209200@www.patriotguard.org
SUMMARY:Ceafus Crosby\, 90\, USA
DESCRIPTION:Ceafus Crosby\, 90\nUnited States Army\nPensacola\, Florida\nFriday\, 26 August 2016\nWW II Veteran\n\n\n\nThe  Patriot Guard has been invited by the family of Private Ceafus Crosby\,  U.S. Army to stand in honor and escort him to Barrancas National  Cemetery. \nPrivate Crosby entered the Army on 13 March 1945 and was honorably released from active duty on 04 October 1946 as evidence by  Department of Veterans Affairs letter dated 23 Aug16.\n\nJoe  Morris Funeral Home\, 701 N. DeVilliers St. is in charge of the  arrangements. Services will be conducted at Joe Morris Funeral Home  followed by a LEO escort and Military Honors at Barrancas National  Cemetery.\n\nNOTE:  Naval Air Station requires that we wear long sleeve shirts\, long  trousers\, long fingered gloves\, DOT approved helmets\, leather footwear  covering the ankles and appropriate eye wear for all riders while riding  on the base.\n\nItinerary:\n\n1015– Staging begins at McDonald’s\, 815 E. Cervantes St.\, Pensacola (9th & Cervantes)\n1100-  Safety briefing for all hands\n1115 –  KSU for Joe Morris Funeral Home\n1145 – Arrive\n1200  –  KSU  for Barrancus/LEO\n1230 – Military Honors \nIf you have any questions\, please contact the ride captain\nTommy Harris\n[URL=”tel:251-504-4449″]251-504-4449[/URL]\nairborne@gulftel.com
URL:https://www.patriotguard.org/mission/ceafus-crosby-90-usa/
CATEGORIES:Archive
END:VEVENT
END:VCALENDAR