BEGIN:VCALENDAR
VERSION:2.0
PRODID:-//Patriot Guard Riders - ECPv5.6.0//NONSGML v1.0//EN
CALSCALE:GREGORIAN
METHOD:PUBLISH
X-WR-CALNAME:Patriot Guard Riders
X-ORIGINAL-URL:https://www.patriotguard.org
X-WR-CALDESC:Events for Patriot Guard Riders
BEGIN:VTIMEZONE
TZID:America/New_York
BEGIN:DAYLIGHT
TZOFFSETFROM:-0500
TZOFFSETTO:-0400
TZNAME:EDT
DTSTART:20160313T070000
END:DAYLIGHT
BEGIN:STANDARD
TZOFFSETFROM:-0400
TZOFFSETTO:-0500
TZNAME:EST
DTSTART:20161106T060000
END:STANDARD
END:VTIMEZONE
BEGIN:VEVENT
DTSTART;TZID=America/New_York:20160807T090000
DTEND;TZID=America/New_York:20160807T110000
DTSTAMP:20210512T041159
CREATED:20160807T130000Z
LAST-MODIFIED:20191201T143808Z
UID:410104-1470560400-1470567600@www.patriotguard.org
SUMMARY:CDR James Brent Allen\, 90\, USN(RET)\, WWII - Korea
DESCRIPTION:CDR James Brent Allen\, 90\nUS Navy Retired\nWWII/Korea/Vietnam\nHot Springs\, AR\nAugust 7\, 2016\n\n\n\nAnother Arkansas Veteran CDR James Brent Allen\, (Retired) 90\, has finished his tour of duty here with us.  The family has requested the Patriot Guard Riders to see their Hero home to his final duty station with Honor\, Dignity and Respect. \nObituary:  http://obits.dignitymemorial.com/dignity-memorial/obituary.aspx?n=James-Allen \nIt will be an honor for us to stand for this Hero who stood for our country and us during WWII\, Korea\, and Vietnam. \nVISITATION: 1600 – 1800 Hrs\, Saturday\, August 6\, 2016\,\nGoss Funeral Home\n120 Wrights St.\nHot Springs\, AR \nSTAGING:  1200 Hrs.\, Sunday\, August 7\, 2016\, Goss Funeral Home \nBRIEFING:  1215 Hrs.  All Riders must be prepared to mount up at a moment’s notice to follow the coach to the Point Cedar Cemetery\, which is behind the Free Hill Pentecostal Church.\n1082 Shouse Ford Road\nAmity\, AR or location 34.301685\, -93.299673 from Google Earth. \nFLAG LINE:  Upon arrival at church until the commencement of services. (Flags will be provided) \nSERVICE: 1400 Hrs. with interment to follow with Flag Line\, & Military Honors. \nWEATHER:  A 30 percent chance of showers and thunderstorms. Partly sunny and hot\, with a high near 97. \nPlease hydrate the day before\, and during the mission.  Water will be provided. \n“Please go to the mission thread to post condolences to the family on their loss.” \nRCIC:\nDavid “Dirty Water” Cone\n(479) 264-9525\ndawaco@hughes.net
URL:https://www.patriotguard.org/mission/cdr-james-brent-allen-90-usnret-wwii-korea/
CATEGORIES:Archive
END:VEVENT
END:VCALENDAR