BEGIN:VCALENDAR
VERSION:2.0
PRODID:-//Patriot Guard Riders - ECPv5.6.0//NONSGML v1.0//EN
CALSCALE:GREGORIAN
METHOD:PUBLISH
X-WR-CALNAME:Patriot Guard Riders
X-ORIGINAL-URL:https://www.patriotguard.org
X-WR-CALDESC:Events for Patriot Guard Riders
BEGIN:VTIMEZONE
TZID:America/New_York
BEGIN:DAYLIGHT
TZOFFSETFROM:-0500
TZOFFSETTO:-0400
TZNAME:EDT
DTSTART:20160313T070000
END:DAYLIGHT
BEGIN:STANDARD
TZOFFSETFROM:-0400
TZOFFSETTO:-0500
TZNAME:EST
DTSTART:20161106T060000
END:STANDARD
END:VTIMEZONE
BEGIN:VEVENT
DTSTART;TZID=America/New_York:20160813T090000
DTEND;TZID=America/New_York:20160813T110000
DTSTAMP:20210512T053405
CREATED:20160813T130000Z
LAST-MODIFIED:20191201T143641Z
UID:409965-1471078800-1471086000@www.patriotguard.org
SUMMARY:CDR Frank Monroe\, USN(RET)
DESCRIPTION:Ladies and Gentlemen of the Patriot Guard Riders\, the family of United States Navy Veteran CDR Frank Monroe has asked us to stand for him at his graveside service\, during the rendering of Military Honors at his final resting place.   Frank gave 30 years of his life in service to our country; protecting our freedoms that we so highly regard.  Frank entered the US Navy in 1947 and retired in 1977.  Frank entered the service as a Limited duty officer (LDO) and rose to the rank of Commander.  Frank was assigned many duties; one notable assignment was as a member of the commissioning crew of the submarine USS SARGO (SSN-583).      \nThis Veteran and his family are good friends of Assistant State Captain (East) Greg Wallace. Please join with me as we stand to Honor this true American hero from the greatest generation\, as well as his family and friends.  \nThe US Navy Honor Guard will render Full Military Honors.   \nMISSION PLAN:  PGR will provide a Rolling Honor guard from the funeral home to graveside.  The graveside portion of the mission will be a flag line mission.     \nMISSION DATE: 13 AUG 2016 / Saturday   \nSTAGING LOCATION:  Safeway parking lot; 500 Cleveland Ave\, SE\, Tumwater\, WA. 98501.      \nSCHEDULE:\n1230 – Staging/Sign in\n1300 – Briefing\n1315 – KSU for mission location\n1330 – Establish flag line\n1400 – Service begins\, members will hold the line until the rendering of Honors is complete then quietly fade away.      \nRIDE CAPTAIN: Daniel “Double D” Halverson; danielhalversonpgr@yahoo.com \nRCIT: Warren Becso; warrenbesco@gmail.com \nRC Cathy Lee Ryan; hotwheelz65@gmail.com
URL:https://www.patriotguard.org/mission/cdr-frank-monroe-usnret/
CATEGORIES:Archive
END:VEVENT
END:VCALENDAR