BEGIN:VCALENDAR
VERSION:2.0
PRODID:-//Patriot Guard Riders - ECPv5.3.2.1//NONSGML v1.0//EN
CALSCALE:GREGORIAN
METHOD:PUBLISH
X-WR-CALNAME:Patriot Guard Riders
X-ORIGINAL-URL:https://www.patriotguard.org
X-WR-CALDESC:Events for Patriot Guard Riders
BEGIN:VTIMEZONE
TZID:America/New_York
BEGIN:DAYLIGHT
TZOFFSETFROM:-0500
TZOFFSETTO:-0400
TZNAME:EDT
DTSTART:20190310T070000
END:DAYLIGHT
BEGIN:STANDARD
TZOFFSETFROM:-0400
TZOFFSETTO:-0500
TZNAME:EST
DTSTART:20191103T060000
END:STANDARD
END:VTIMEZONE
BEGIN:VEVENT
DTSTART;VALUE=DATE:20190710
DTEND;VALUE=DATE:20190711
DTSTAMP:20210404T034817
CREATED:20190708T145525Z
LAST-MODIFIED:20190708T145525Z
UID:166975-1562716800-1562803199@www.patriotguard.org
SUMMARY:Casey Jay Roland
DESCRIPTION:Honor Mission\nCasey Jay Roland\, Active Duty\nUSMC – WoT\nRound Rock\, Texas – 07-10-19\n\n\n \n\nABOUT THE MISSION: \nSSgt Roland\, 28\, served 10 years in the Marine Corps with various stateside assignments and deployments to Afghanistan\, Japan\, Cuba\, Spain\, and Morocco.  Obituary\n\n\nPRIMARY STAGING DETAILS: 07-10-19 \nStaging Time: 9:00 am\n \nSt William Catholic Church\n620 Round Rock West Dr\nRound Rock\, Texas 78681\nMap\n\n\nRide Captain: \nKeith Longacre\nkeithlongacre@att.net\n(512) 751-8955\n\n\nSpecial Instructions: \nInterment will be the same day at 1 pm at CTSVC in Killeen. Centex PGR will attend the burial portion.\n\nFlags & Water:\nFlags will be provided\nLarge Bike Flags will NOT be needed.\nWater will be provided.\n\n\n\n\nSubmitted By: Mark Wells \nPosition: Texas Ride Captain \n\nNote: You do not have to own/ride a motorcycle or be a veteran to join\, and membership is Free. The only requirement is RESPECT! To subscribe to receive mission notices\, log into the National Site and click on the Members tab at the top. Select the Subscribe to PGR Missions option.\n Print This Page
URL:https://www.patriotguard.org/mission/casey-jay-roland/
CATEGORIES:Honor Mission
END:VEVENT
END:VCALENDAR