BEGIN:VCALENDAR
VERSION:2.0
PRODID:-//Patriot Guard Riders - ECPv5.3.2.1//NONSGML v1.0//EN
CALSCALE:GREGORIAN
METHOD:PUBLISH
X-WR-CALNAME:Patriot Guard Riders
X-ORIGINAL-URL:https://www.patriotguard.org
X-WR-CALDESC:Events for Patriot Guard Riders
BEGIN:VTIMEZONE
TZID:America/New_York
BEGIN:DAYLIGHT
TZOFFSETFROM:-0500
TZOFFSETTO:-0400
TZNAME:EDT
DTSTART:20190310T070000
END:DAYLIGHT
BEGIN:STANDARD
TZOFFSETFROM:-0400
TZOFFSETTO:-0500
TZNAME:EST
DTSTART:20191103T060000
END:STANDARD
END:VTIMEZONE
BEGIN:VEVENT
DTSTART;VALUE=DATE:20190608
DTEND;VALUE=DATE:20190609
DTSTAMP:20210405T010710
CREATED:20190530T014259Z
LAST-MODIFIED:20190530T014259Z
UID:162330-1559952000-1560038399@www.patriotguard.org
SUMMARY:Carroll Dewayne McKenzie
DESCRIPTION:Honor Mission\nCarroll Dewayne McKenzie\, Veteran\nUSN –\nCamp Verde\, Arizona – 06-08-19\n\n\n\n\nABOUT THE MISSION: \nCarroll Dewayne McKenzie\, known by everyone as Pete\, honorably served our Country in the United States Navy from 1956 until 1959 as a hydraulic mechanic. Pete was awarded the Good Conduct Medal. Pete recently passed at the age of 80.\n\n\nPRIMARY STAGING DETAILS: 06-08-19 \nStaging Time: 09:45  \nAmerican Legion Post\n93286 S. 3rd Street\nCamp Verde\, Arizona 86322\nhttp://bit.ly/2VWXv7C\n\n\nRide Captain: \nJohn Moffitt\nprescottbikers@hotmail.com\n928-713-0856\n\n\nSpecial Instructions: \n10:10 – Road Guard briefing\n10:30 – Circle of Honor\nImmediately thereafter Safety briefing with whoever is going to be in the procession\n10:50 – KSU to Middle Verde Cemetery\n Reservation Loop Road\, Camp Verde.\, AZ 86322\n\nFlag line upon arrival at Middle Verde Cemetery\n11:15 – Military Honors\n\nLead Road Guard: John Moffitt\n\nFlag Captain: Gary Sheldon\n\n\n\nFlags & Water:\nFlags will be provided\nIf you have large bike flags\, please bring them.\nWater will be provided.\n\nSubmitted By: John Moffitt \nPosition: Arizona Assistant State Captain \n\nNote: You do not have to own/ride a motorcycle or be a veteran to join\, and membership is Free. The only requirement is RESPECT! To subscribe to receive mission notices\, log into the National Site and click on the Members tab at the top. Select the Subscribe to PGR Missions option.\n Print This Page
URL:https://www.patriotguard.org/mission/carroll-dewayne-mckenzie/
CATEGORIES:Honor Mission
END:VEVENT
END:VCALENDAR