BEGIN:VCALENDAR
VERSION:2.0
PRODID:-//Patriot Guard Riders - ECPv5.3.2.1//NONSGML v1.0//EN
CALSCALE:GREGORIAN
METHOD:PUBLISH
X-WR-CALNAME:Patriot Guard Riders
X-ORIGINAL-URL:https://www.patriotguard.org
X-WR-CALDESC:Events for Patriot Guard Riders
BEGIN:VTIMEZONE
TZID:America/New_York
BEGIN:DAYLIGHT
TZOFFSETFROM:-0500
TZOFFSETTO:-0400
TZNAME:EDT
DTSTART:20190310T070000
END:DAYLIGHT
BEGIN:STANDARD
TZOFFSETFROM:-0400
TZOFFSETTO:-0500
TZNAME:EST
DTSTART:20191103T060000
END:STANDARD
END:VTIMEZONE
BEGIN:VEVENT
DTSTART;VALUE=DATE:20190611
DTEND;VALUE=DATE:20190612
DTSTAMP:20210405T045713
CREATED:20190606T014218Z
LAST-MODIFIED:20190606T014218Z
UID:163772-1560211200-1560297599@www.patriotguard.org
SUMMARY:Carl Walter Deems
DESCRIPTION:  \n\nHonor Mission\nCarl Walter Deems\, Retired\nUSAF\nPensacola\, Florida  06-11-19\n\n\n\nABOUT THE MISSION: \nIt is with deep regret to announce that we have lost another veteran\, Lt Col Carl Walter Deems. The Patriot Guard has been invited by the family of Lt Col Deems\, United States Air Force\, to stand in his honor and escort him to Barrancas National Cemetery. Lt Col Deems honorably served in the United States Air Force for over 24 years and departed this earth at age 65 .Lt Col Deems received the following awards: Achievement Medal\, Commendation Medal with 1 Device\, Defense Meritorious Service Medal\, Meritorious Service Medal w/3 Devices\, National Defense Service Medal\, Readiness Medal w/1 Device\, and the Small Arms Expert Marksmanship Ribbon. Honors will be at Barrancas National Cemetery.\n\n\nPRIMARY STAGING DETAILS: 06-11-19 \nStaging Time: 10:15 am\n \nWhataburger\n5480 Pensacola Blvd\nPensacola\, Florida\n\n\nRide Captain: \nCam “Chief” Hatton\nCameron.hatton@gmail.com\n(503) 706-6930\n\n\nSpecial Instructions: \nNAS requires long sleeve shirts and trousers\, long fingered gloves\, DOT approved helmets\, leather footwear covering the ankles and proper eye protection while riding aboard the base.\n\n11:00 am – Safety briefing for all riders\n11:15 am – KSU to Trahan Family Funeral Home\, 419 Yoakum Ct\, Pensacola\n11:30 am – Arrival at Trahan Family Funeral Home\n12:00 am – KSU to BNC w/LEO escort\n1:00 pm – Honors at BNC\n\n\nFlags & Water:\nFlags will be provided\nIf you have large bike flags\, please bring them.\nWater will be provided.\n  \n\n\nSubmitted By: Ray Doyle \nPosition: Florida Assistant State Captain \n\nNote: You do not have to own/ride a motorcycle or be a veteran to join\, and membership is Free. The only requirement is RESPECT! To subscribe to receive mission notices\, log into the National Site and click on the Members tab at the top. Select the Subscribe to PGR Missions option.\n Print This Page
URL:https://www.patriotguard.org/mission/carl-walter-deems/
CATEGORIES:Honor Mission
END:VEVENT
END:VCALENDAR