BEGIN:VCALENDAR
VERSION:2.0
PRODID:-//Patriot Guard Riders - ECPv5.6.0//NONSGML v1.0//EN
CALSCALE:GREGORIAN
METHOD:PUBLISH
X-WR-CALNAME:Patriot Guard Riders
X-ORIGINAL-URL:https://www.patriotguard.org
X-WR-CALDESC:Events for Patriot Guard Riders
BEGIN:VTIMEZONE
TZID:America/New_York
BEGIN:DAYLIGHT
TZOFFSETFROM:-0500
TZOFFSETTO:-0400
TZNAME:EDT
DTSTART:20160313T070000
END:DAYLIGHT
BEGIN:STANDARD
TZOFFSETFROM:-0400
TZOFFSETTO:-0500
TZNAME:EST
DTSTART:20161106T060000
END:STANDARD
END:VTIMEZONE
BEGIN:VEVENT
DTSTART;TZID=America/New_York:20160603T090000
DTEND;TZID=America/New_York:20160603T110000
DTSTAMP:20210513T131609
CREATED:20160603T130000Z
LAST-MODIFIED:20191201T145448Z
UID:411621-1464944400-1464951600@www.patriotguard.org
SUMMARY:Carl Miller\, USA
DESCRIPTION:Friday June 3\, 2016\nResurrection Catholic Church. 1600 11 Ave. SE Rochester Mn. \nThe family of Carl “Butch” Miller has invited the Patriot Guard to stand a flag line in honor of his life and service to our country \nCarl served in the US Army.  He passed at the age of 68. Carl joined the Army in April of 1966.During his time in the Army\, he was with the 508th Airborne\, 8th Special forces and 101st Airborne; with which he went to Vietnam. His last night in the field\, he was wounded and spent 70 days in various hospitals. Afterward\, he finished his time with the 82nd Airborne. During this time\, Carl received 2 Purple Hearts\, 2 Air Medals\, Army Commendation Medal\, National Service Medal\, Vietnam Service Medal and the Vietnam Campaign Medal.  \nPlease come out and stand in silent tribute to Honor Carl’s life and service to our country. \n08:45 am– Staging opens\n09:00 am – Brief\n09:05 am – Set Flag line\nAfter a brief time we will stand down and then reset the Flag line again at 10:00 am\n11:00 am – Service starts\, stand down\nWe will reset the flag line again after the service for Military Honors \nEstimated release: 12:30 pm \nDismissal at RCIC’s discretion.\n\nRCIC: Jim Nelson\nrochesterrc@mnpatriotguard.org \nThis is a rain\, or shine mission. Please bring your 3 x 5 American Flag and anything else you may need for the duration of this mission.
URL:https://www.patriotguard.org/mission/carl-miller-usa/
CATEGORIES:Archive
END:VEVENT
END:VCALENDAR