BEGIN:VCALENDAR
VERSION:2.0
PRODID:-//Patriot Guard Riders - ECPv5.3.2.1//NONSGML v1.0//EN
CALSCALE:GREGORIAN
METHOD:PUBLISH
X-WR-CALNAME:Patriot Guard Riders
X-ORIGINAL-URL:https://www.patriotguard.org
X-WR-CALDESC:Events for Patriot Guard Riders
BEGIN:VTIMEZONE
TZID:America/New_York
BEGIN:DAYLIGHT
TZOFFSETFROM:-0500
TZOFFSETTO:-0400
TZNAME:EDT
DTSTART:20210314T070000
END:DAYLIGHT
BEGIN:STANDARD
TZOFFSETFROM:-0400
TZOFFSETTO:-0500
TZNAME:EST
DTSTART:20211107T060000
END:STANDARD
END:VTIMEZONE
BEGIN:VEVENT
DTSTART;VALUE=DATE:20210402
DTEND;VALUE=DATE:20210403
DTSTAMP:20210404T083518
CREATED:20210401T023004Z
LAST-MODIFIED:20210401T023004Z
UID:573417-1617321600-1617407999@www.patriotguard.org
SUMMARY:Carl Martin Swensen
DESCRIPTION:Honor Mission\nCarl Martin Swensen\, Veteran\nUSMC\, USMCR –\nO’Fallon\, Missouri – 04-02-21\n\n\n\nABOUT THE MISSION: \nThe family of Carl M. Swensen has requested an escort for their loved one to his final resting place within the hallowed grounds of Jefferson Barracks National Cemetery. Veteran Swensen honorably served in the United States Marine Corps from September 1959 – December 1964. Corporal Swensen earned the Sharpshooter Rifle Badge\, the Expert Pistol Badge and the Good Conduct Medal. Mr. Swensen\, a grateful nation thanks you and is indebted to you for your Honorable Service. Your sacrifices have granted us the freedoms we continue to enjoy to this very day.\n\n\nPRIMARY STAGING DETAILS: 04-02-21 \nStaging Time: 09:30 AM\n \nDierberg’s Plaza\n217 Salt Lick Road (I-70 & Highway 79 – Exit 220)\nO’Fallon\, Missouri 63376\n\n\nRide Captain: \nTim ‘Twidget’ Grantz\n(314) 330-0387\ntimgrantz@sbcglobal.net\n\n\nSpecial Instructions: \nR.E.D. SHIRT FRIDAY\n***ESCORT ONLY***\nParking Lot is at the intersection of Veterans Memorial Parkway & Salt Lick Road.\n9:30AM Stage and Ride Meeting\n9:45AM Family Arrives\n10:00AM Honor Escort to Jefferson Barrack National Cemetery\n11:00AM Committal with Full Military Honors\nFlags: Elaine ‘Short Stack’ Martin\nMission forecast: Sunny with temperatures in the upper-50s\nMasks and social distancing are required at JBNC\nHydrate before\, during\, after mission. Please do not attend if you are feeling ill.\nCages always welcome!\n\n\nFlags & Water:\nFlags will be provided\nIf you have large bike flags\, please bring them.\nWater will be provided.\n\n\nSubmitted By: Tim Grantz \nPosition: Missouri Ride Captain \n\nNote: You do not have to own/ride a motorcycle or be a veteran to join\, and membership is Free. The only requirement is RESPECT! To subscribe to receive mission notices\, log into the National Site and click on the Members tab at the top. Select the Subscribe to PGR Missions option.\n Print This Page
URL:https://www.patriotguard.org/mission/carl-martin-swensen/
CATEGORIES:Honor Mission
END:VEVENT
END:VCALENDAR