BEGIN:VCALENDAR
VERSION:2.0
PRODID:-//Patriot Guard Riders - ECPv5.3.2.1//NONSGML v1.0//EN
CALSCALE:GREGORIAN
METHOD:PUBLISH
X-WR-CALNAME:Patriot Guard Riders
X-ORIGINAL-URL:https://www.patriotguard.org
X-WR-CALDESC:Events for Patriot Guard Riders
BEGIN:VTIMEZONE
TZID:America/New_York
BEGIN:DAYLIGHT
TZOFFSETFROM:-0500
TZOFFSETTO:-0400
TZNAME:EDT
DTSTART:20190310T070000
END:DAYLIGHT
BEGIN:STANDARD
TZOFFSETFROM:-0400
TZOFFSETTO:-0500
TZNAME:EST
DTSTART:20191103T060000
END:STANDARD
END:VTIMEZONE
BEGIN:VEVENT
DTSTART;VALUE=DATE:20190828
DTEND;VALUE=DATE:20190829
DTSTAMP:20210402T071631
CREATED:20190824T172859Z
LAST-MODIFIED:20190824T172859Z
UID:171806-1566950400-1567036799@www.patriotguard.org
SUMMARY:Carl Joseph Schmoock\, Sr
DESCRIPTION:Honor Mission\nCarl Joseph Schmoock\, Sr\, Retired\nUSN\nMulti-City\, Georgia – 08-28-19\n\n\nABOUT THE MISSION:\n\n\nThe family of Carl Joseph Schmoock\, Sr. has requested the Patriot Guard Riders to escort him from the funeral home to Georgia National Cemetery (GNC) and stand a flag line of honor at GNC. He stood for us and now it’s our honor to stand for him. SCPO (Ret) Schmoock also retired from Lockheed as a Logistic Engineer and was a lifelong Mason.\n\n\nPRIMARY STAGING DETAILS: 08-28-19 \nStaging Time: 12:15 pm \nWinkerhofer Pine Ridge Funeral Home\n2950 Cobb Pkwy NW\nKennesaw\, Georgia 30152\n\n\nRide Captain: \nSid “Squirrel” Kelly\nSidKelly423@gmail.com\n404-273-7127\n\n\nSpecial Instructions: \n\n\nFlags & Water:\n\nFlags will not be provided\nIf you have large bike flags\, please bring them.\nWater will be provided.\n\nSTAGING #2 DETAILS: 08-28-19 \nStaging Time: 1:45 pm \nGeorgia National Cemetery\n1080 Scott Hudgens Dr\,\nCanton\, Georgia 30114\n\n\nRide Captain: \nSid “Squirrel” Kelly\nSidKelly423@gmail.com\n404-273-7127\n\n\nSpecial Instructions: \nAt GNC we will stage at the POW/MIA flag pole for a briefing then we will proceed to the appropriate shelter for the interment service. PGR has been asked to serve as pallbearers\, the funeral director has stated that the weight of the casket is approximately 500 lbs so we will probably need eight pallbearers if possible.\n\n\nFlags & Water:\n\nFlags will be provided\nLarge Bike Flags will NOT be needed.\nWater will be provided.\n\n\n\nSubmitted By: Sidney Kelly \nPosition: Georgia Ride Captain \n\nNote: You do not have to own/ride a motorcycle or be a veteran to join\, and membership is Free. The only requirement is RESPECT! To subscribe to receive mission notices\, log into the National Site and click on the Members tab at the top. Select the Subscribe to PGR Missions option.\n Print This Page
URL:https://www.patriotguard.org/mission/carl-joseph-schmoock-sr/
CATEGORIES:Honor Mission
END:VEVENT
END:VCALENDAR