BEGIN:VCALENDAR
VERSION:2.0
PRODID:-//Patriot Guard Riders - ECPv5.6.0//NONSGML v1.0//EN
CALSCALE:GREGORIAN
METHOD:PUBLISH
X-WR-CALNAME:Patriot Guard Riders
X-ORIGINAL-URL:https://www.patriotguard.org
X-WR-CALDESC:Events for Patriot Guard Riders
BEGIN:VTIMEZONE
TZID:America/New_York
BEGIN:DAYLIGHT
TZOFFSETFROM:-0500
TZOFFSETTO:-0400
TZNAME:EDT
DTSTART:20160313T070000
END:DAYLIGHT
BEGIN:STANDARD
TZOFFSETFROM:-0400
TZOFFSETTO:-0500
TZNAME:EST
DTSTART:20161106T060000
END:STANDARD
END:VTIMEZONE
BEGIN:VEVENT
DTSTART;TZID=America/New_York:20160611T090000
DTEND;TZID=America/New_York:20160611T110000
DTSTAMP:20210513T153108
CREATED:20160611T130000Z
LAST-MODIFIED:20191201T145249Z
UID:411442-1465635600-1465642800@www.patriotguard.org
SUMMARY:Carl Hardy\, USA-Vietnam
DESCRIPTION:Carl Hardy\nVietnam\, Army / PGR\nMany\, LA\, 06-11-2016\n\n\n\nThe family of Mr. Carl Hardy has ask the PGR to stand in Honor of their Hero.  Carl served in the U.S.Army / Viet Nam From 1969 to 1970.  Mr. Hardy rode several missions with the PGR in Louisiana and Texas.\n\nPRIMARY STAGING INFO – 06-11-2016:\n  Location:\nToledo Town\nIntersection of Hwy 6 and Hwy 191\nMany\, LA\n\n Staging Time:\n12:30 P.M. \n  Special Instructions:\nPick up escort coming from Vidor\, TX and escort to the church in Many\, LA. \nRCIC:\nLarry Alford – lalford60@yahoo.com\n\nAssisting RCs:\nFreddie Grappe – fgrappe@bellsouth.net\n\nLarge bike flags will be needed. \nWeather: \nSunny and Hot\n\nStage Two INFO – 06-11-2016:\n  Location:\nChurch of Jesus Christ Latter Day\n2084 Natchitoches Hwy.\nMany\, LA   \n  StagingTime:\n1:30 P.M. \n  Special Instructions:\nStand flag line for viewing at 1400 hrs. Funeral Service at 1500 hrs. Escort from Church to Ft. Jessup Cemetery. Escort to cemetery about 5 miles. \nRCIC:\nLarry Alford – lalford60@yahoo.com \n  Assisting RCs:\nFreddie Grappe – fgrappe@bellsouth.net \n    Flags will be provided.\nLarge bike flags will be needed. \nWeather: \nSunny and Hot
URL:https://www.patriotguard.org/mission/carl-hardy-usa-vietnam/
CATEGORIES:Archive
END:VEVENT
END:VCALENDAR