BEGIN:VCALENDAR
VERSION:2.0
PRODID:-//Patriot Guard Riders - ECPv5.3.2.1//NONSGML v1.0//EN
CALSCALE:GREGORIAN
METHOD:PUBLISH
X-WR-CALNAME:Patriot Guard Riders
X-ORIGINAL-URL:https://www.patriotguard.org
X-WR-CALDESC:Events for Patriot Guard Riders
BEGIN:VTIMEZONE
TZID:America/New_York
BEGIN:DAYLIGHT
TZOFFSETFROM:-0500
TZOFFSETTO:-0400
TZNAME:EDT
DTSTART:20190310T070000
END:DAYLIGHT
BEGIN:STANDARD
TZOFFSETFROM:-0400
TZOFFSETTO:-0500
TZNAME:EST
DTSTART:20191103T060000
END:STANDARD
END:VTIMEZONE
BEGIN:VEVENT
DTSTART;VALUE=DATE:20190719
DTEND;VALUE=DATE:20190720
DTSTAMP:20210403T184120
CREATED:20190718T031139Z
LAST-MODIFIED:20190718T031139Z
UID:168058-1563494400-1563580799@www.patriotguard.org
SUMMARY:Carl E. Dobson
DESCRIPTION:Honor Mission\nCarl E. Dobson\, Veteran\nUSAF –\nSand Springs\, Oklahoma – 07-19-19\n\n\n\nABOUT THE MISSION: \nThe family of Amn Carl E. Dobson\, USAF Veteran\, has asked the Patriot Guard Riders to stand a Flag Line at his Interment Service to be held at 2:30PM. USAF to render Military Honors.\n\n\nPRIMARY STAGING DETAILS: 07-19-19 \nStaging Time: 1:45 PM\n \nWoodland Memorial Park Cemetery\n1200 Cleveland Ave.\nSand Springs\, Oklahoma\n\n\nRide Captain: \nJJ “Devil Dog” Moss\njjmoss@cox.net\n918-637-2249\n\n\nSpecial Instructions: \nBriefing: 02:00PM\nFlag Line: 02:15PM\nWeather: Sunny Low 79° High 94°\, 0%\nDress accordingly and ride within your abilities. HYDRATE!\n\n\nFlags & Water:\nFlags will be provided\nLarge Bike Flags will NOT be needed.\nWater WILL NOT be provided\, please bring your own.\n\n\n\nSubmitted By: Richard Fawcett \nPosition: Oklahoma Assistant State Captain \n\nNote: You do not have to own/ride a motorcycle or be a veteran to join\, and membership is Free. The only requirement is RESPECT! To subscribe to receive mission notices\, log into the National Site and click on the Members tab at the top. Select the Subscribe to PGR Missions option.\n Print This Page
URL:https://www.patriotguard.org/mission/carl-e-dobson/
CATEGORIES:Honor Mission
END:VEVENT
END:VCALENDAR