BEGIN:VCALENDAR
VERSION:2.0
PRODID:-//Patriot Guard Riders - ECPv5.3.2.1//NONSGML v1.0//EN
CALSCALE:GREGORIAN
METHOD:PUBLISH
X-WR-CALNAME:Patriot Guard Riders
X-ORIGINAL-URL:https://www.patriotguard.org
X-WR-CALDESC:Events for Patriot Guard Riders
BEGIN:VTIMEZONE
TZID:America/New_York
BEGIN:DAYLIGHT
TZOFFSETFROM:-0500
TZOFFSETTO:-0400
TZNAME:EDT
DTSTART:20190310T070000
END:DAYLIGHT
BEGIN:STANDARD
TZOFFSETFROM:-0400
TZOFFSETTO:-0500
TZNAME:EST
DTSTART:20191103T060000
END:STANDARD
END:VTIMEZONE
BEGIN:VEVENT
DTSTART;VALUE=DATE:20190619
DTEND;VALUE=DATE:20190620
DTSTAMP:20210405T122344
CREATED:20190617T225613Z
LAST-MODIFIED:20190617T225613Z
UID:165029-1560902400-1560988799@www.patriotguard.org
SUMMARY:CARL DENVERD SPRATLIN JR
DESCRIPTION:Honor Mission\nCarl Denverd Spratlin\, Jr.\, Retired\nUSN\nPensacola\, Florida – 06-19-19\n\n\n\nABOUT THE MISSION: \nThe Patriot Guard has been invited by the Family of RMC Carl D. Spratlin\, United States Navy (Ret)\, to stand in his honor and escort him to Barrancas National Cemetery. RMC Spratlin served in the United States Navy for 20 years\, from Jan 1953 to Jun. 1973. RMC Spratlin received the Good Conduct Medal (5th) award while serving in the United States Navy.\n\n\nPRIMARY STAGING DETAILS: 06-19-19 \nStaging Time: 9:15 AM\n \nWhataburger\n5480 Pensacola Blvd.\nPensacola\, Florida\n\n\nRide Captain: \nRoy W. Pippin\n251-97-97241\nsmokeynal.rp@gmail.com\n\n\nSpecial Instructions: \nNaval Air Station requires long sleeve shirts\, long trousers\, long-fingered gloves\, DOT Approved helmets\, leather footwear covering the ankles\, and appropriate eye protection. This attire will be maintained at all times while riding aboard the base.\n\n10:00 AM – Briefing for all riders\n10:15 AM – KSU to Trahan Family Funeral Home\, 419 Yoakum Ct.\, Pensacola\, Florida\n11:00 AM – Roll Time to Barrancas National Cemetery\n12:00 PM – Honors at Barrancas National Cemetery\, Site A.\n\nFlags & Water:\nFlags will be provided.\nIf you have large bike flags\, please bring them.\nWater will be provided.\n\n\n\nSubmitted By: Ray Doyle \nPosition: Florida Assistant State Captain \n\nNote: You do not have to own/ride a motorcycle or be a veteran to join\, and membership is Free. The only requirement is RESPECT! To subscribe to receive mission notices\, log into the National Site and click on the Members tab at the top. Select the Subscribe to PGR Missions option.\n Print This Page
URL:https://www.patriotguard.org/mission/carl-denverd-spratlin-jr/
CATEGORIES:Honor Mission
END:VEVENT
END:VCALENDAR