BEGIN:VCALENDAR
VERSION:2.0
PRODID:-//Patriot Guard Riders - ECPv5.3.2.1//NONSGML v1.0//EN
CALSCALE:GREGORIAN
METHOD:PUBLISH
X-WR-CALNAME:Patriot Guard Riders
X-ORIGINAL-URL:https://www.patriotguard.org
X-WR-CALDESC:Events for Patriot Guard Riders
BEGIN:VTIMEZONE
TZID:America/New_York
BEGIN:DAYLIGHT
TZOFFSETFROM:-0500
TZOFFSETTO:-0400
TZNAME:EDT
DTSTART:20190310T070000
END:DAYLIGHT
BEGIN:STANDARD
TZOFFSETFROM:-0400
TZOFFSETTO:-0500
TZNAME:EST
DTSTART:20191103T060000
END:STANDARD
END:VTIMEZONE
BEGIN:VEVENT
DTSTART;VALUE=DATE:20190826
DTEND;VALUE=DATE:20190827
DTSTAMP:20210402T124950
CREATED:20190826T000031Z
LAST-MODIFIED:20190826T000031Z
UID:171881-1566777600-1566863999@www.patriotguard.org
SUMMARY:Carl A Bahr
DESCRIPTION:Honor Mission\nCarl A Bahr\, Retired\, Veteran\nANG – Vietnam\nPleasant Grove\, Utah – 08-26-19\n\n\n\nABOUT THE MISSION: \nThe Patriot Guard Riders have been requested to stand a flag line for SPC Carl A Bahr. SPC Carl A Bahr served in the Utah National Guard during the Vietnam War. This will be a veteran’s format. The service will be at the LDS church on 332 E 500 N in Pleasant Grove at 11:00 AM. We will stand a flag line at the church and then escort SPC Carl A Bahr to his final resting place in the Pleasant Grove Cemetery on 500 N Main in Pleasant Grove\, where we will stand another flag line. Thank you\, SPC Carl A Bahr\, for your service. Anyone attending in a cage and willing to transport flags please contact Steve Caron at: 801-367-3494.\n\n\nPRIMARY STAGING DETAILS: 08-26-19 \nStaging Time: 11:00 AM \nMacey’s\n932 W State St\nPleasant Grove\, Utah\n\n\nRide Captain: \nSteve Caron\n801-367-3494\n\n\nSpecial Instructions: \nKSU: 11:30 AM\nWeather: Sunny with a high of 86. Please dress accordingly and keep yourself hydrated.\n\n\nFlags & Water:\nFlags will be provided\nIf you have large bike flags\, please bring them.\nWater WILL NOT be provided\, please bring your own.\n\n\n\nSubmitted By: Dave Richardson \nPosition: Utah State Captain \n\nNote: You do not have to own/ride a motorcycle or be a veteran to join\, and membership is Free. The only requirement is RESPECT! To subscribe to receive mission notices\, log into the National Site and click on the Members tab at the top. Select the Subscribe to PGR Missions option.\n Print This Page
URL:https://www.patriotguard.org/mission/carl-a-bahr/
CATEGORIES:Honor Mission
END:VEVENT
END:VCALENDAR