BEGIN:VCALENDAR
VERSION:2.0
PRODID:-//Patriot Guard Riders - ECPv5.3.2.1//NONSGML v1.0//EN
CALSCALE:GREGORIAN
METHOD:PUBLISH
X-WR-CALNAME:Patriot Guard Riders
X-ORIGINAL-URL:https://www.patriotguard.org
X-WR-CALDESC:Events for Patriot Guard Riders
BEGIN:VTIMEZONE
TZID:America/New_York
BEGIN:DAYLIGHT
TZOFFSETFROM:-0500
TZOFFSETTO:-0400
TZNAME:EDT
DTSTART:20190310T070000
END:DAYLIGHT
BEGIN:STANDARD
TZOFFSETFROM:-0400
TZOFFSETTO:-0500
TZNAME:EST
DTSTART:20191103T060000
END:STANDARD
END:VTIMEZONE
BEGIN:VEVENT
DTSTART;VALUE=DATE:20190625
DTEND;VALUE=DATE:20190627
DTSTAMP:20210405T073010
CREATED:20190621T111822Z
LAST-MODIFIED:20190621T111822Z
UID:165397-1561420800-1561593599@www.patriotguard.org
SUMMARY:Candelario R Trevino
DESCRIPTION:Honor Mission\nCandelario R Trevino\, POW/MIA\, Veteran\nUSA – Vietnam\nSan Antonio\, Texas – 06-25-19\n\n\n\nABOUT THE MISSION: \nThe family of Mr. Candelario R. Treviño\, a US Army Veteran\, requests the presence and participation of the Patriot Guard at the funeral service\, LEO supported procession\, and graveside rendering of military honors of their loved one. Mr. Trevino did many tours in Vietnam and a former MIA and a POW with 4 Purple Hearts and a Bronze Star with a V for Valor.\n\n\nPRIMARY STAGING DETAILS: 06-25-19 \nStaging Time: 5:30 PM\n \nCastle Ridge Mortuary\n8008 W. Military Dr\nSan Antonio\, Texas 78227\nMap\n\n\nRide Captain: \nJim “Red” Hefner\naaahefner@aol.com\n\n\nSpecial Instructions: \nStaging: 05:30 PM\nBriefing: 05:34 PM\nRosary Service: 06:30 PM\n\nFlags: Alice “Cake Lady” Wagener\n\n\nFlags & Water:\nFlags will be provided\nLarge Bike Flags will NOT be needed.\nWater will be provided.\n\nSTAGING #2 DETAILS: 06-26-19 \nStaging Time: 08:30 AM\n \nCastle Ridge Mortuary\n8008 W. Military Dr\nSan Antonio\, Texas 78227\nMap\n\n\nRide Captain: \nJim “Red” Hefner\naaahefner@aol.com\n\n\nSpecial Instructions: \nStaging: 08:30 AM\nBriefing: 08:45 AM\nHonor Line: 09:00 AM\nKSU: 09:15 AM\nService: 10:00 AM at St. Vincent De Paul Catholic Church\, 4222 SW Loop 410\, San Antonio\, TX 78227.\nMap\nKSU: 11:00 AM\nInterment: 11:30 AM at Fort Sam Houston National Cemetery\, 1520 Harry Wurzbach Rd\, San Antonio\, TX 78209.\nMap\n\nFlags: Pat Jopling\n\n\nFlags & Water:\nFlags will be provided\nIf you have large bike flags\, please bring them.\nWater will be provided.\n\n\n\nSubmitted By: Lisa Menard \nPosition: Texas Ride Captain \n\nNote: You do not have to own/ride a motorcycle or be a veteran to join\, and membership is Free. The only requirement is RESPECT! To subscribe to receive mission notices\, log into the National Site and click on the Members tab at the top. Select the Subscribe to PGR Missions option.\n Print This Page
URL:https://www.patriotguard.org/mission/candelario-r-trevino/
CATEGORIES:Honor Mission
END:VEVENT
END:VCALENDAR