BEGIN:VCALENDAR
VERSION:2.0
PRODID:-//Patriot Guard Riders - ECPv5.3.2.1//NONSGML v1.0//EN
CALSCALE:GREGORIAN
METHOD:PUBLISH
X-WR-CALNAME:Patriot Guard Riders
X-ORIGINAL-URL:https://www.patriotguard.org
X-WR-CALDESC:Events for Patriot Guard Riders
BEGIN:VTIMEZONE
TZID:America/New_York
BEGIN:DAYLIGHT
TZOFFSETFROM:-0500
TZOFFSETTO:-0400
TZNAME:EDT
DTSTART:20180311T070000
END:DAYLIGHT
BEGIN:STANDARD
TZOFFSETFROM:-0400
TZOFFSETTO:-0500
TZNAME:EST
DTSTART:20181104T060000
END:STANDARD
END:VTIMEZONE
BEGIN:VEVENT
DTSTART;TZID=America/New_York:20180324T120000
DTEND;TZID=America/New_York:20180324T140000
DTSTAMP:20210403T010527
CREATED:20180324T160000Z
LAST-MODIFIED:20191201T030933Z
UID:313731-1521892800-1521900000@www.patriotguard.org
SUMMARY:Caleb Nathaniel King\, Active Duty\, USN - WoT
DESCRIPTION:Honor Mission \nCaleb Nathaniel King\, Active Duty\nUSN  – WoT\nMULTI-CITY\, Florida – 24 Mar 2018\n\n\n[HR][/HR]\nABOUT THE MISSION: \n\nThe family of LT Caleb Nathaniel King has graciously requested the Patriot Guard Riders presence as they show their final respects and lay their loved one to rest. \nLT King faithfully served his Country in the U.S. Navy and performed duties as a Weapons Systems Operator. \nLT King was killed in an aircraft accident off of Key West Florida recently.  His awards include the National Defense Service medal\, Air Medal\, Navy Meritorious Unit Commendation\, Inherent Resolve Campaign medal\, Global War on Terrorism Service medal\, and the Navy Sea Service Deployment ribbon \nStage 1 will be a  church service followed by an Escort (LEO led) from the church to Cape Canaveral National Cemetery.  Large Flag Bikes are requested. \nLT King is survived by his wife (Active Duty Navy) and a daughter. \nPlease bring your 3 X 5 American Flags and stand in Honor and Respect for our Hero and his family.\n \n\nPRIMARY STAGING DETAILS:  24 Mar 2018\nPrimary Staging Time: 12:00 P.M. \n\nWhite Chapel of God\n1730 S Ridgewood Ave\nSouth Daytona\, Florida – 32119\nhttps://goo.gl/pYNua9\n\n\nRide Captain: \n\nRobert “Buffalo Bob” Collet\, Jr.\nbuffalobobusa2@gmail.com\n386-717-3945\n\n\nSpecial Instructions: \n\n1215 Brief\n1330 Service\nFamily will arrive around 1230\, flag line to be set before this.\nKSU for Escort to CCNC at the direction of the funeral home and LEO.\n\n\nFlags & Water: \n\nFlags Will NOT Be Provided\, Please Bring Your Own.\nIf you have large bike flags\, please bring them.\nWater WILL NOT be provided\, please bring your own.\n\n[HR][/HR]STAGING #2 DETAILS: 24 Mar\, 2018\nStaging #2 Time: 1515 P.M. \n\nCape Canaveral National Cemetery\n5525 US 1\nMims\, Florida – 32754\nhttps://goo.gl/s6eHpP\n\n\nRide Captain: \n\nThomas “Tat2diver” Cook\ntat2diver@yahoo.com\n941-465-6488\n\n\nSpecial Instructions: \n\n1530 Brief\n1600 Service\nFlag Line as directed by the RC.\n\n\nFlags & Water: \n\nFlags Will NOT Be Provided\, Please Bring Your Own.\nLarge Bike Flags will NOT be needed\nWater WILL NOT be provided\, please bring your own.\n\n\nSubmitted By: Bernie Conner\nPosition: Assistant State Captain\n[HR][/HR]Note:\nYou do not have to own/ride a motorcycle or be a Veteran to join and membership is Free. The only requirement is RESPECT! To join\, simply go to www.PatriotGuard.org and click on Register. Membership is Free. \nTo subscribe to receive mission notices\, log into the National Site and click on the Mission Tab at the top. Select the Subscribe to Missions option.
URL:https://www.patriotguard.org/mission/caleb-nathaniel-king-active-duty-usn-wot/
END:VEVENT
END:VCALENDAR