BEGIN:VCALENDAR
VERSION:2.0
PRODID:-//Patriot Guard Riders - ECPv5.6.0//NONSGML v1.0//EN
CALSCALE:GREGORIAN
METHOD:PUBLISH
X-WR-CALNAME:Patriot Guard Riders
X-ORIGINAL-URL:https://www.patriotguard.org
X-WR-CALDESC:Events for Patriot Guard Riders
BEGIN:VTIMEZONE
TZID:America/New_York
BEGIN:DAYLIGHT
TZOFFSETFROM:-0500
TZOFFSETTO:-0400
TZNAME:EDT
DTSTART:20160313T070000
END:DAYLIGHT
BEGIN:STANDARD
TZOFFSETFROM:-0400
TZOFFSETTO:-0500
TZNAME:EST
DTSTART:20161106T060000
END:STANDARD
END:VTIMEZONE
BEGIN:VEVENT
DTSTART;TZID=America/New_York:20160814T090000
DTEND;TZID=America/New_York:20160814T110000
DTSTAMP:20210512T012947
CREATED:20160814T130000Z
LAST-MODIFIED:20191201T143630Z
UID:409949-1471165200-1471172400@www.patriotguard.org
SUMMARY:Burl D. Currey\, 79
DESCRIPTION:Burl D. Currey\, 79\nUS Navy Veteran\nGrayson\, KY\n14 August 2016\n\n\n\nWe have been invited by the family of Burl D. Currey\, 79\, US Navy Veteran\, to stand in his honor. \nMr. Currey served with honor and dignity\, and received several citations and awards. \nIt is our honor now to stand for him.  The following arrangements have been made. \nFUNERAL \nDAY/DATE:  Sunday\, August 14\, 2016 \nPLACE:\nMalone’s Funeral Home\n325 Malone Lane\nGrayson\, KY 41143 \nTIME:  2:00 pm \nSTAGING AREA:\nMcDonald’s\n751 Carol Malone Blvd\nGrayson\, KY 41143 \nSTAGING TIME:  12:30 pm \nKSU:  12:45 pm \nBurial will be at the East Carter County Memory Gardens directly following the service. \nPlease bring your 3×5 American flags\, arrive hydrated\, and dress according to the weather conditions. \nRide Captain:  Tom Epperly\n606.571.9022
URL:https://www.patriotguard.org/mission/burl-d-currey-79/
CATEGORIES:Archive
END:VEVENT
END:VCALENDAR