BEGIN:VCALENDAR
VERSION:2.0
PRODID:-//Patriot Guard Riders - ECPv5.3.2.1//NONSGML v1.0//EN
CALSCALE:GREGORIAN
METHOD:PUBLISH
X-WR-CALNAME:Patriot Guard Riders
X-ORIGINAL-URL:https://www.patriotguard.org
X-WR-CALDESC:Events for Patriot Guard Riders
BEGIN:VTIMEZONE
TZID:America/New_York
BEGIN:DAYLIGHT
TZOFFSETFROM:-0500
TZOFFSETTO:-0400
TZNAME:EDT
DTSTART:20190310T070000
END:DAYLIGHT
BEGIN:STANDARD
TZOFFSETFROM:-0400
TZOFFSETTO:-0500
TZNAME:EST
DTSTART:20191103T060000
END:STANDARD
END:VTIMEZONE
BEGIN:VEVENT
DTSTART;VALUE=DATE:20190810
DTEND;VALUE=DATE:20190811
DTSTAMP:20210402T100633
CREATED:20190808T135909Z
LAST-MODIFIED:20190808T135909Z
UID:169836-1565395200-1565481599@www.patriotguard.org
SUMMARY:Buddy Frank Bailey
DESCRIPTION:Honor Mission\nBuddy Frank Bailey\, Retired\nUSA\nChandler\, Texas – 08-10-19\n\n\n \n\nABOUT THE MISSION: \nBuddy Frank Baley was born October 29\, 1937 in Hobbs\, New Mexico and had been a resident of Chandler since 1980. He served in the US Army for 22 years\, working as a military policeman and criminal investigator. He retired as the Provost Sergeant at the Stockade. He received the Good Conduct Medal\, National Defense Service Medal\, Army Commendation Medal\, and the Meritorious Service Medal.\n\n\nPRIMARY STAGING DETAILS: 08-10-19 \nStaging Time: 10:00 am\n \nChandler First Assembly of God Church\n840 Broad St.\nChandler\, Texas 75758\nMap\n\n\nRide Captain: \nBrad Hayes\n903-520-2409\nbrad.hayes68@yahoo.com\n\n\nSpecial Instructions: \nRiders meeting at 10:45 AM.\nFlag line 11:00 AM.\nFlag Line Only.\nPlease remain flexible as to the requirements of the mission. (SEMPER GUMBY)\n\nFlags & Water:\nFlags will be provided\nLarge Bike Flags will NOT be needed.\nWater will be provided.\n\n\n\nSubmitted By: Michael Eubank \nPosition: Texas Deputy State Captain \n\nNote: You do not have to own/ride a motorcycle or be a veteran to join\, and membership is Free. The only requirement is RESPECT! To subscribe to receive mission notices\, log into the National Site and click on the Members tab at the top. Select the Subscribe to PGR Missions option.\n Print This Page
URL:https://www.patriotguard.org/mission/buddy-frank-bailey/
CATEGORIES:Honor Mission
END:VEVENT
END:VCALENDAR