BEGIN:VCALENDAR
VERSION:2.0
PRODID:-//Patriot Guard Riders - ECPv5.3.2.1//NONSGML v1.0//EN
CALSCALE:GREGORIAN
METHOD:PUBLISH
X-WR-CALNAME:Patriot Guard Riders
X-ORIGINAL-URL:https://www.patriotguard.org
X-WR-CALDESC:Events for Patriot Guard Riders
BEGIN:VTIMEZONE
TZID:America/New_York
BEGIN:DAYLIGHT
TZOFFSETFROM:-0500
TZOFFSETTO:-0400
TZNAME:EDT
DTSTART:20190310T070000
END:DAYLIGHT
BEGIN:STANDARD
TZOFFSETFROM:-0400
TZOFFSETTO:-0500
TZNAME:EST
DTSTART:20191103T060000
END:STANDARD
END:VTIMEZONE
BEGIN:VEVENT
DTSTART;VALUE=DATE:20190622
DTEND;VALUE=DATE:20190623
DTSTAMP:20210405T003438
CREATED:20190620T131536Z
LAST-MODIFIED:20190620T131536Z
UID:165310-1561161600-1561247999@www.patriotguard.org
SUMMARY:Bryon Wayne Russell
DESCRIPTION:Honor Mission\nBryon Wayne Russell\, Veteran\nUSA –\nScottsdale\, Arizona – 06-22-19\n\n\n\nABOUT THE MISSION: \nBryon Russell was a United States Army Veteran. Bryon joined the Army in 1994. He became a Airborne Ranger. His Primary Occupation was 11B\, Infantryman. The 11B Infantryman are rifleman who assist in the performance of reconnaissance operations and employ fire and recover anti personal and anti tank mines. After 3 years of service to his country\, Bryon was honorably discharged.\n\n\nPRIMARY STAGING DETAILS: 06-22-19 \nStaging Time: 10:15 AM  \nGreen Acres Mortuary and Cemetery\n401 N. Hayden Road\nScottsdale\, Arizona 85257\n\n\nRide Captain: \nDoug “Bones” Boelter\n480-802-0842\n2boelters@gmail.com\n\nFlag Captain: Karen Swanson\n\n\nSpecial Instructions: \nFlag line set inside chapel: 10:35 AM\nMilitary honors inside the chapel: 11:00 AM.\nUpon completion of Military Honors PGR will exit and wait for completion of the service.\nAt completion of the service we will do the honorable transfer of our Hero.\nCircle of Honor/Briefing: 12:10 PM.\nAfter Circle of Honor/Briefing we will be dismissed.\n\n\nFlags & Water:\nFlags will be provided\nLarge Bike Flags will NOT be needed.\nWater will be provided.\n\n\n\nSubmitted By: Mike Sullivan \nPosition: Arizona Assistant State Captain \n\nNote: You do not have to own/ride a motorcycle or be a veteran to join\, and membership is Free. The only requirement is RESPECT! To subscribe to receive mission notices\, log into the National Site and click on the Members tab at the top. Select the Subscribe to PGR Missions option.\n Print This Page
URL:https://www.patriotguard.org/mission/bryon-wayne-russell/
CATEGORIES:Honor Mission
END:VEVENT
END:VCALENDAR