BEGIN:VCALENDAR
VERSION:2.0
PRODID:-//Patriot Guard Riders - ECPv5.6.0//NONSGML v1.0//EN
CALSCALE:GREGORIAN
METHOD:PUBLISH
X-WR-CALNAME:Patriot Guard Riders
X-ORIGINAL-URL:https://www.patriotguard.org
X-WR-CALDESC:Events for Patriot Guard Riders
BEGIN:VTIMEZONE
TZID:America/New_York
BEGIN:DAYLIGHT
TZOFFSETFROM:-0500
TZOFFSETTO:-0400
TZNAME:EDT
DTSTART:20160313T070000
END:DAYLIGHT
BEGIN:STANDARD
TZOFFSETFROM:-0400
TZOFFSETTO:-0500
TZNAME:EST
DTSTART:20161106T060000
END:STANDARD
END:VTIMEZONE
BEGIN:VEVENT
DTSTART;TZID=America/New_York:20160706T090000
DTEND;TZID=America/New_York:20160706T110000
DTSTAMP:20210512T140646
CREATED:20160706T130000Z
LAST-MODIFIED:20191201T144554Z
UID:410820-1467795600-1467802800@www.patriotguard.org
SUMMARY:Bryan M. Nash\, 51\, USN Veteran / Park Hills
DESCRIPTION:The Family of U.S. Navy Veteran HT2 Bryan M. Nash (51 yrs.)  has Requested the Patriot Guard for the Final Mission of Their Loved One.\n \nUnder the Direction of:\nHorton-Wampler Funeral Home\n#1 Federal Park Drive\nPark Hills\, MO.  63601\n \nWEDNESDAY\, JULY 6th. \, 2016\n \nVisitation:  10:00 a.m.   (1000 hrs.)\nService:  11:00 a.m.   (1100 hrs.)\n \nHonor Escort to the Doe Run Memorial Cemetery (Doe Run\, MO.) for Interment with Full Military Honors.\n \nRCIC:\nKen “Grumpy” Kelly\, RC.\naugust.kelly@hotmail.com\n \nFlags / Support:\nBill “Enforcer” Barker\n \nStaging: Horton-Wampler Funeral Home @ 9:30 a.m.  (0930 hrs.) to Stake and Establish a Flag Line.\n \nWeather Predictions:  88° / 40% chance of p.m. Showers / Travel & Dress Accordingly / HYDRATE.
URL:https://www.patriotguard.org/mission/bryan-m-nash-51-usn-veteran-park-hills/
CATEGORIES:Archive
END:VEVENT
END:VCALENDAR