BEGIN:VCALENDAR
VERSION:2.0
PRODID:-//Patriot Guard Riders - ECPv5.6.0//NONSGML v1.0//EN
CALSCALE:GREGORIAN
METHOD:PUBLISH
X-WR-CALNAME:Patriot Guard Riders
X-ORIGINAL-URL:https://www.patriotguard.org
X-WR-CALDESC:Events for Patriot Guard Riders
BEGIN:VTIMEZONE
TZID:America/New_York
BEGIN:DAYLIGHT
TZOFFSETFROM:-0500
TZOFFSETTO:-0400
TZNAME:EDT
DTSTART:20160313T070000
END:DAYLIGHT
BEGIN:STANDARD
TZOFFSETFROM:-0400
TZOFFSETTO:-0500
TZNAME:EST
DTSTART:20161106T060000
END:STANDARD
END:VTIMEZONE
BEGIN:VEVENT
DTSTART;TZID=America/New_York:20160818T090000
DTEND;TZID=America/New_York:20160818T110000
DTSTAMP:20210512T032004
CREATED:20160818T130000Z
LAST-MODIFIED:20191201T143523Z
UID:409846-1471510800-1471518000@www.patriotguard.org
SUMMARY:Bruce Terry Moore\, 70
DESCRIPTION:Fellow Riders\, \nIt is with heavy heart that I must inform you that American has lost another True American Hero \nThe family of Bruce Terry Moore has requested the Patriot Guard to Stand a Silent Flag Line for their loved one. \nMr. Moore passed away on Saturday\, August 13\, 2016\, at the age of 70.  \nHe served in the U.S. Air Force. His awards and commendations include National Defense Service Medal\, Good Conduct Medal and an Honorable discharge.  His rank is unknown at this time. \nThe Patriot Guard Riders will be honored to stand a silent flag line from 1200 until 1400 for this True Patriot and Hero.  We will also render a final hand salute before the service begins.  Mr. Moore will be cremated at a later date. \nFamily Visitation:  1200 hrs -1400 hrs. First Baptist Church\, 10170 Grand Bay-Wilmer Rd. S. \nWe will be dismissed after rendering the final hand salute. \nFuneral Service:     1400 hrs. \nMOBILE COUNTY STAGING\nLocation:   Walmart parking lot (corner of Rangeline Rd. & Halls Mill Rd.)\nTime:         1100 hrs.\nBriefing:    1115 hrs.\nKSU:         1130 hrs.\nRCIC: Lloyd Pursley\, DRC – (251) 422-0696\nFlags:  Lloyd Pursley\, DRC – (251) 422-0696 \nBALDWIN COUNTY STAGING\nLocation:  Spanish Fort Overlook\nTime:        1000 hrs.\nBriefing:   N/A\nKSU:         1030 hrs. \nRC: None at this time – Proceed to Mobile County Staging at 0815. \nalpgrsouthwest@gmail.com
URL:https://www.patriotguard.org/mission/bruce-terry-moore-70/
END:VEVENT
END:VCALENDAR