BEGIN:VCALENDAR
VERSION:2.0
PRODID:-//Patriot Guard Riders - ECPv5.6.0//NONSGML v1.0//EN
CALSCALE:GREGORIAN
METHOD:PUBLISH
X-WR-CALNAME:Patriot Guard Riders
X-ORIGINAL-URL:https://www.patriotguard.org
X-WR-CALDESC:Events for Patriot Guard Riders
BEGIN:VTIMEZONE
TZID:America/New_York
BEGIN:DAYLIGHT
TZOFFSETFROM:-0500
TZOFFSETTO:-0400
TZNAME:EDT
DTSTART:20160313T070000
END:DAYLIGHT
BEGIN:STANDARD
TZOFFSETFROM:-0400
TZOFFSETTO:-0500
TZNAME:EST
DTSTART:20161106T060000
END:STANDARD
END:VTIMEZONE
BEGIN:VEVENT
DTSTART;TZID=America/New_York:20160621T090000
DTEND;TZID=America/New_York:20160621T110000
DTSTAMP:20210513T174105
CREATED:20160621T130000Z
LAST-MODIFIED:20191201T144951Z
UID:411178-1466499600-1466506800@www.patriotguard.org
SUMMARY:Bruce Langlois\, 81\, USN
DESCRIPTION:The family of Bruce Langlois has invited the  Patriot Guard Riders to stand a silent Flag Line in Honor of his service  to our country. Bruce worked as a diesel mechanic on a destroyer during  the Korean war. After the war Mr. Langlois started  and ran several businesses including English Hills\, The Deltaplex and  Delta Properties. Bruce was also a man who always helped others. He  worked with Senior Neighbors\, mentored small business owners and in 2000  created Rays of Hope for Haiti to help bring  relief to the children of that Haiti.\n\nObituary:  http://www.beuschelfuneralhome.com/Obituaries/BruceLanglois.aspx  \nLocation:\nHoly Trinity Catholic Church\n1200 Alpine Church Rd\nComstock Park\, MI. \nMap: http://mapq.st/1tC01NZ  \nStaging: 9:00 AM\nBriefing: 9:15 AM\nFlag Line: 9:30 AM – 11:00 AM (start of service) \nInterment to follow at Holy Trinity cemetery across the street from the Church. \nRC: Tony Van Gessel (616) 862-1984 \n Please bring your 3’ X 5’ American Flag to Honor Mr. Langlois
URL:https://www.patriotguard.org/mission/bruce-langlois-81-usn/
END:VEVENT
END:VCALENDAR