BEGIN:VCALENDAR
VERSION:2.0
PRODID:-//Patriot Guard Riders - ECPv5.3.2.1//NONSGML v1.0//EN
CALSCALE:GREGORIAN
METHOD:PUBLISH
X-WR-CALNAME:Patriot Guard Riders
X-ORIGINAL-URL:https://www.patriotguard.org
X-WR-CALDESC:Events for Patriot Guard Riders
BEGIN:VTIMEZONE
TZID:America/New_York
BEGIN:DAYLIGHT
TZOFFSETFROM:-0500
TZOFFSETTO:-0400
TZNAME:EDT
DTSTART:20190310T070000
END:DAYLIGHT
BEGIN:STANDARD
TZOFFSETFROM:-0400
TZOFFSETTO:-0500
TZNAME:EST
DTSTART:20191103T060000
END:STANDARD
END:VTIMEZONE
BEGIN:VEVENT
DTSTART;VALUE=DATE:20190606
DTEND;VALUE=DATE:20190607
DTSTAMP:20210405T134847
CREATED:20190604T142115Z
LAST-MODIFIED:20190604T142115Z
UID:163610-1559779200-1559865599@www.patriotguard.org
SUMMARY:Bruce Huffman
DESCRIPTION:Honor Mission\nBruce Huffman\, Retired\nUSAF – Korea\, Vietnam\nDallas\, Texas – 06-06-19\n\n\n \n\nABOUT THE MISSION: \nTSgt Bruce Huffman honorably served in the United States Air Force with 22 years of service. He served in Korea and Vietnam.\n\n\nPRIMARY STAGING DETAILS: 06-06-19 \nStaging Time: 8:30 AM\n \nDFW National Cemetery\n2000 Mountain Creek Pkwy\nDallas\, Texas 75211\n\n\nRide Captain: \nJeffrey Wikeasm\n757@att.net\n(817) 301-4293\n\n\nSpecial Instructions: \nBriefing Time: 8:45 AM\nIn Position/KSU Time: 9:00 AM\nStarting Time:  9:15 AM\nRiders will stage at the DFW National Cemetery Visitor’s Center for a short brief. Honor Bikes will be selected and they will move to the appropriate staging lane and prepare for the procession to the committal shelter. The remaining riders will move to the designated shelter\, set the flags and establish the Flag Line to await the arrival of TSgt Huffman\, family and friends. When directed\, riders will return the flags to the storage area\, have a short debriefing and be dismissed.\n\nFlags & Water:\nFlags will be provided\nIf you have large bike flags\, please bring them.\nWater WILL NOT be provided\, please bring your own.\n\n\n\nSubmitted By: Dan Mathys \nPosition: Texas Ride Captain \n\nNote: You do not have to own/ride a motorcycle or be a veteran to join\, and membership is Free. The only requirement is RESPECT! To subscribe to receive mission notices\, log into the National Site and click on the Members tab at the top. Select the Subscribe to PGR Missions option.\n Print This Page
URL:https://www.patriotguard.org/mission/bruce-huffman/
CATEGORIES:Honor Mission
END:VEVENT
END:VCALENDAR