BEGIN:VCALENDAR
VERSION:2.0
PRODID:-//Patriot Guard Riders - ECPv5.3.2.1//NONSGML v1.0//EN
CALSCALE:GREGORIAN
METHOD:PUBLISH
X-WR-CALNAME:Patriot Guard Riders
X-ORIGINAL-URL:https://www.patriotguard.org
X-WR-CALDESC:Events for Patriot Guard Riders
BEGIN:VTIMEZONE
TZID:America/New_York
BEGIN:DAYLIGHT
TZOFFSETFROM:-0500
TZOFFSETTO:-0400
TZNAME:EDT
DTSTART:20210314T070000
END:DAYLIGHT
BEGIN:STANDARD
TZOFFSETFROM:-0400
TZOFFSETTO:-0500
TZNAME:EST
DTSTART:20211107T060000
END:STANDARD
END:VTIMEZONE
BEGIN:VEVENT
DTSTART;VALUE=DATE:20210402
DTEND;VALUE=DATE:20210403
DTSTAMP:20210404T083430
CREATED:20210401T023336Z
LAST-MODIFIED:20210401T023336Z
UID:573494-1617321600-1617407999@www.patriotguard.org
SUMMARY:Bruce Folsom
DESCRIPTION:Honor Mission\nBruce Folsom\, Veteran\nUSN – Vietnam\nWichita Falls\, Texas – 04-02-21\n\n\n\nABOUT THE MISSION: \nServed September 1968-August 1972. Rank ETR2. Served on the USS Saratoga CVA 60-Eletronics Mechanic.\n\n\nPRIMARY STAGING DETAILS: 04-02-21 \nStaging Time: 1:00 PM\n \nVFW David Gibbs Post #8878\n4005 Seymore Highway\nWichita Falls\, Texas 76309\n\n\nRide Captain: \nBob Heuchert\nbheuchert@yahoo.com\n(940) 882-9372\n\n\nSpecial Instructions: \nStaging Time: 1pm\nBriefing Time: 1:15\nIn Position/KSU Time: 1:30\nStarting Time: 2pm\nUpon arrival at the VFW\, we will place our static flags around the building and then stand an honor line.\nWe will also be folding and presenting the Flag to the family.\nOnce the service is over\, we will return our flags to the support vehicle\, have a short debrief and be dismissed.\n\n\nFlags & Water:\nFlags will be provided\nLarge Bike Flags will NOT be needed.\nWater WILL NOT be provided\, please bring your own.\n\n\nSubmitted By: Dan Mathys \nPosition: Texas Ride Captain \n\nNote: You do not have to own/ride a motorcycle or be a veteran to join\, and membership is Free. The only requirement is RESPECT! To subscribe to receive mission notices\, log into the National Site and click on the Members tab at the top. Select the Subscribe to PGR Missions option.\n Print This Page
URL:https://www.patriotguard.org/mission/bruce-folsom/
CATEGORIES:Honor Mission
END:VEVENT
END:VCALENDAR