BEGIN:VCALENDAR
VERSION:2.0
PRODID:-//Patriot Guard Riders - ECPv5.3.2.1//NONSGML v1.0//EN
CALSCALE:GREGORIAN
METHOD:PUBLISH
X-WR-CALNAME:Patriot Guard Riders
X-ORIGINAL-URL:https://www.patriotguard.org
X-WR-CALDESC:Events for Patriot Guard Riders
BEGIN:VTIMEZONE
TZID:America/New_York
BEGIN:DAYLIGHT
TZOFFSETFROM:-0500
TZOFFSETTO:-0400
TZNAME:EDT
DTSTART:20170312T070000
END:DAYLIGHT
BEGIN:STANDARD
TZOFFSETFROM:-0400
TZOFFSETTO:-0500
TZNAME:EST
DTSTART:20171105T060000
END:STANDARD
END:VTIMEZONE
BEGIN:VEVENT
DTSTART;TZID=America/New_York:20171003T104500
DTEND;TZID=America/New_York:20171003T124500
DTSTAMP:20210406T105235
CREATED:20171003T144500Z
LAST-MODIFIED:20191201T035154Z
UID:346746-1507027500-1507034700@www.patriotguard.org
SUMMARY:Bruce Brown\, Veteran\, USA
DESCRIPTION:Bruce Brown\, Veteran\nUSA\nDallas\, Texas – 03 Oct 2017\n\n\n[HR][/HR]\nABOUT THE MISSION: \n\nUnaccompanied Veteran\, United States Army. \nThe PGR has been invited by the Eternal Rest Funeral Home to stand the flag line for Bruce Brown who has no known family.\n \n\nPRIMARY STAGING DETAILS:  03 Oct 2017\nPrimary Staging Time: 10:45 A.M. \n\nDallas-Fort Worth National Cemetery\n2000 Mountain Creek Parkway\nDallas\, Texas – 75211\nhttps://goo.gl/maps/3VmL7CoLzjp\n\n\nRide Captain: \n\nDarl Easton\ndarl444@msn.com\n(817) 296-5123\n\n\nSpecial Instructions: \n\nStage at the Dallas-Fort Worth National Cemetery Information Center for a briefing. After the  briefing\, a few volunteers will be dispatched to the assigned shelter to  set up the flag line\, all other will join the procession from the  staging area to the shelter.\n\n\nFlags & Water: \n\nFlags Will Be Provided\nIf you have large bike flags\, please bring them.\nWater WILL NOT be provided\, please bring your own.\n\n\nSubmitted By: M. B. Ingersoll\nPosition: Ride Captain\n[HR][/HR]Note:\nYou do not have to own/ride a motorcycle or be a Veteran to join and membership is Free. The only requirement is RESPECT! To join\, simply go to www.PatriotGuard.org and click on Register. Membership is Free. \nTo subscribe to receive mission notices\, log into the National Site and click on the Mission Tab at the top. Select the Subscribe to Missions option.
URL:https://www.patriotguard.org/mission/bruce-brown-veteran-usa/
LOCATION:Charles C Eynon
END:VEVENT
END:VCALENDAR