BEGIN:VCALENDAR
VERSION:2.0
PRODID:-//Patriot Guard Riders - ECPv5.6.0//NONSGML v1.0//EN
CALSCALE:GREGORIAN
METHOD:PUBLISH
X-WR-CALNAME:Patriot Guard Riders
X-ORIGINAL-URL:https://www.patriotguard.org
X-WR-CALDESC:Events for Patriot Guard Riders
BEGIN:VTIMEZONE
TZID:America/New_York
BEGIN:DAYLIGHT
TZOFFSETFROM:-0500
TZOFFSETTO:-0400
TZNAME:EDT
DTSTART:20160313T070000
END:DAYLIGHT
BEGIN:STANDARD
TZOFFSETFROM:-0400
TZOFFSETTO:-0500
TZNAME:EST
DTSTART:20161106T060000
END:STANDARD
END:VTIMEZONE
BEGIN:VEVENT
DTSTART;TZID=America/New_York:20160603T090000
DTEND;TZID=America/New_York:20160603T110000
DTSTAMP:20210513T163058
CREATED:20160603T130000Z
LAST-MODIFIED:20191201T145541Z
UID:411704-1464944400-1464951600@www.patriotguard.org
SUMMARY:Bruce Allen Thouvenel\, 66\, USN
DESCRIPTION:Bruce Allen Thouvenel\, 66\, US Navy\, Vietnam\, Roseburg National Cemetery\, Roseburg OR ~ 3/JUN/16 \nLadies and Gentlemen of the Patriot Guard Riders\, we have been invited by the friends and family of US Navy Vietnam Veteran Bruce Allen Thouvenel to help with Bruce’s memorial service at the New Annex of the Roseburg National Cemetery on Friday\, 3/June/2016. \nBruce provided clean water through his work running a power plant “in Country”. During his tour he also encountered Agent Orange that finally took his life. Bruce was a member of the local group of “In Country Vets” giving of his time and efforts to help other Veterans. Please join us as we help support his family\, pay our respects\, and honor his service to our nation. \nMission Date: Friday\, 3/JUN/16 \nRide Captains:\nSparky/Terry Mooney\nlinda.mooney@earthlink.net \nRoseburg National Cemetery Staging Location for all bikes for escort: Wilson’s Chapel of the Roses\, 965 West Harvard\, Roseburg\, OR. \nStaging Time: 1400 hrs\n\nRide Briefing: 1415 hrs\n\nKSU: 1430 hrs \n**Please have your flags attached securely to your bikes.  We will be taking Bruce on his last ride in the 5 man missing formation. We will be riding to the Roseburg National Cemetery where a flag line will be waiting for the escort. \nFlag line Staging Location: New Annex of the Roseburg National Cemetery\, South Entrance of the VAHCS off West Harvard Avenue\, Roseburg\, OR. \nStaging Time: 1415 hrs\nFlag line Set: 1430 hrs\nService Begins: 1500 hrs \n**Flags will be available
URL:https://www.patriotguard.org/mission/bruce-allen-thouvenel-66-usn/
CATEGORIES:Archive
END:VEVENT
END:VCALENDAR