BEGIN:VCALENDAR
VERSION:2.0
PRODID:-//Patriot Guard Riders - ECPv5.3.2.1//NONSGML v1.0//EN
CALSCALE:GREGORIAN
METHOD:PUBLISH
X-WR-CALNAME:Patriot Guard Riders
X-ORIGINAL-URL:https://www.patriotguard.org
X-WR-CALDESC:Events for Patriot Guard Riders
BEGIN:VTIMEZONE
TZID:America/New_York
BEGIN:DAYLIGHT
TZOFFSETFROM:-0500
TZOFFSETTO:-0400
TZNAME:EDT
DTSTART:20190310T070000
END:DAYLIGHT
BEGIN:STANDARD
TZOFFSETFROM:-0400
TZOFFSETTO:-0500
TZNAME:EST
DTSTART:20191103T060000
END:STANDARD
END:VTIMEZONE
BEGIN:VEVENT
DTSTART;VALUE=DATE:20190606
DTEND;VALUE=DATE:20190607
DTSTAMP:20210405T013851
CREATED:20190606T014145Z
LAST-MODIFIED:20190606T014331Z
UID:163742-1559779200-1559865599@www.patriotguard.org
SUMMARY:Briantt Scott Tinkler
DESCRIPTION:Honor Mission\nBriantt Scott Tinkler\, Active Duty\nUSMC\nRock Hill\, South Carolina – 06-06-19\n\n\n\nABOUT THE MISSION: \nCorporal Tinkler was on active duty in the United States Marine Corps when he passed away on Monday\, May 27\, 2019 at Camp Lejeune\, NC.  He was 28 years old and had served six years in the Marines.  Corporal Tinkler was a 2009 graduate from Rock Hill High School.  He served our Great Nation and us\, now it’s our turn to stand with honor and respect for this Hero.\n\n\nPRIMARY STAGING DETAILS: 06-06-19 \nStaging: 5:30 pm  \nGreene Funeral Home Northwest Chapel\n2133 Ebenezer Rd.\nRock Hill\, South Carolina 29732\nhttps://goo.gl/maps/jN5ZXV7tZM42\n\n\nRide Captain: \nHarvey Mayhill\nhcmayhill@aol.com\n803-980-2454\n\n\nSpecial Instructions: \nBriefing: 5:45 pm\nFlag Line: 6:00 pm\, after the briefing\, we will stand up a flag line for visitation from 6:00 pm until 7:30 pm (unless visitation ends early)\, to honor Corporal Tinkler as family and friends gather to comfort one another during visitation.\nFlags and Water: Lin Mayhill – Mentor\n\n\nFlags & Water:\nFlags will be provided\nLarge Bike Flags will NOT be needed.\nWater will be provided.\n\nSTAGING #2 DETAILS: 06-07-19 \nStaging: 11:30 am  \nNeely’s Creek Presbyterian Church\n974 Neely Creek Rd.\nRock Hill\, South Carolina 29732\nhttps://goo.gl/maps/AYcXYkh7au3T2KEw9\n\n\nRide Captain: \nHarvey Mayhill\nhcmayhill@aol.com\n803-980-2454\n\n\nSpecial Instructions: \nBriefing: 11:45 am\, after the briefing\, we will stand up a flag line from 12:00 Noon until 1:00 pm\, when Corporal Tinkler’s funeral starts.  We will stand down until after the funeral service and prepare to escort the funeral procession to Laurelwood Cemetery\, on White Street\, (no street number listed) Rock Hill\, SC.\, where we will re-establish a flag line until the end of his graveside service.\nFlags and Water: Lin Mayhill – Mentor\n\n\nFlags & Water:\nFlags will be provided\nIf you have large bike flags\, please bring them.\nWater will be provided.\n\nSubmitted By: Sam McGinnis \nPosition: South Carolina Assistant State Captain \n\nNote: You do not have to own/ride a motorcycle or be a veteran to join\, and membership is Free. The only requirement is RESPECT! To subscribe to receive mission notices\, log into the National Site and click on the Members tab at the top. Select the Subscribe to PGR Missions option.\n Print This Page
URL:https://www.patriotguard.org/mission/briantt-scott-tinkler/
CATEGORIES:Honor Mission
END:VEVENT
END:VCALENDAR