BEGIN:VCALENDAR
VERSION:2.0
PRODID:-//Patriot Guard Riders - ECPv5.6.0//NONSGML v1.0//EN
CALSCALE:GREGORIAN
METHOD:PUBLISH
X-WR-CALNAME:Patriot Guard Riders
X-ORIGINAL-URL:https://www.patriotguard.org
X-WR-CALDESC:Events for Patriot Guard Riders
BEGIN:VTIMEZONE
TZID:America/New_York
BEGIN:DAYLIGHT
TZOFFSETFROM:-0500
TZOFFSETTO:-0400
TZNAME:EDT
DTSTART:20160313T070000
END:DAYLIGHT
BEGIN:STANDARD
TZOFFSETFROM:-0400
TZOFFSETTO:-0500
TZNAME:EST
DTSTART:20161106T060000
END:STANDARD
END:VTIMEZONE
BEGIN:VEVENT
DTSTART;TZID=America/New_York:20160627T090000
DTEND;TZID=America/New_York:20160627T110000
DTSTAMP:20210512T214810
CREATED:20160627T130000Z
LAST-MODIFIED:20191201T144910Z
UID:411113-1467018000-1467025200@www.patriotguard.org
SUMMARY:Brian L. Becker\, USMC\, Vietnam / Myerstown
DESCRIPTION:updated 22 JUN 16@2010EST ArmySSG\n \n\n\nBrian L. Becker\nUSMC Vietnam War Veteran\nMyerstown\, Indiantown Gap\, PA\n27 JUN 2016\n\n\n\nThe family of Marine Vietnam War Veteran Brian L. Becker has requested the Patriot Guard Riders stand to honor his service to our nation at his funeral\, escort\, and interment Monday\, June 27th.  Brian was a lifetime member of the Richland American Legion Post 880 and Myerstown VFW Post 6076.  Brian had a passion for Harley-Davidson motorcycles. \nFollowing a funeral service in Myerstown\, we will escort Brian to Indiantown Gap National Cemetery for interment with full military honors.  Brian Becker is a patriot who served our country with honor and now it’s our turn to stand and honor him. \nFUNERAL & ESCORT:   VISITATION 0930 HRS\, FUNERAL 1030 HRS \nGrose Funeral Home\n358 W. Washington Avenue\nMyerstown\, PA 17067\nMAP: https://goo.gl/maps/SkvWzreiMAr \nStage:  0900 HRS\, at the funeral home \nEscort to IGNC to follow service \nIGNC INTERMENT:  1230 HRS \nIndiantown Gap National Cemetery\nMAP: https://goo.gl/maps/Q5Rje \nIf going directly to IGNC\, stage at the upper parking lot opposite the rear of the PA Memorial\, (turn left at the US Flag Circle). Stage at 1200 HRS \nDO NOT PROCEED TO COMMITTAL SITE WITHOUT PERMISSION. \nNOTE:  Concealed carry permits are NOT recognized on military installations and federal reservations. Indiantown Gap National Cemetery is a federal reservation. Do not bring weapons or hazardous materials to this mission. \nRCIC:\nKarl “Preacher” Decca\ntaz672010@gmail.com\n717-283-8896 \nMission inquiries:\nDale McGinnis\npgrpa.vetrep.east@gmail.com\n717-887-4679
URL:https://www.patriotguard.org/mission/brian-l-becker-usmc-vietnam-myerstown/
CATEGORIES:Archive
END:VEVENT
END:VCALENDAR