BEGIN:VCALENDAR
VERSION:2.0
PRODID:-//Patriot Guard Riders - ECPv5.3.2.1//NONSGML v1.0//EN
CALSCALE:GREGORIAN
METHOD:PUBLISH
X-WR-CALNAME:Patriot Guard Riders
X-ORIGINAL-URL:https://www.patriotguard.org
X-WR-CALDESC:Events for Patriot Guard Riders
BEGIN:VTIMEZONE
TZID:America/New_York
BEGIN:DAYLIGHT
TZOFFSETFROM:-0500
TZOFFSETTO:-0400
TZNAME:EDT
DTSTART:20190310T070000
END:DAYLIGHT
BEGIN:STANDARD
TZOFFSETFROM:-0400
TZOFFSETTO:-0500
TZNAME:EST
DTSTART:20191103T060000
END:STANDARD
END:VTIMEZONE
BEGIN:VEVENT
DTSTART;VALUE=DATE:20190928
DTEND;VALUE=DATE:20190929
DTSTAMP:20210401T134703
CREATED:20190927T180859Z
LAST-MODIFIED:20190927T180859Z
UID:176821-1569628800-1569715199@www.patriotguard.org
SUMMARY:Brian Krumm
DESCRIPTION:Honor Mission\nBrian Krumm\n– LEO\nTucson\, Arizona – 09-28-19\n\n\n\n\nABOUT THE MISSION: \nBrian Krumm was born into the Krumm family of Tucson\, Arizona on 5 October 1982. Brian grew up in Tucson graduating from Desert View High School in 2001. Upon graduation\, Brian attended Pima Community College and received a degree in 2003 in Automotive Repair. After his graduation from Pima\, Brian opened his own business specializing in metal fabrication\, auto repair and welding as he was a master welder. He also during this time was employed as a Security Officer .In 2006\, Brian became part of the Pima County Sheriff’s Department to  serve our community. Officer Krumm passed on 21 August 2019 leaving a legacy of the love of his life \, two children\, many family\, friends and his brothers and sisters of Law Enforcement. Officer Krumm will be remembered for his patriotism\, his love for his family\, his love of life\, and his willingness to always help others above and beyond any expectations.\n\n\nPRIMARY STAGING DETAILS: 09-28-19 \nStaging Time: 09:00  \nPantano Christian Church\n1755 South Houghton Road\nTucson\, Arizona 85748\n\n\nRide Captain: \n Robi 520-429-1175\n DaFlagGuy 520-241-4530\n\n\nSpecial Instructions: \nBriefing: 9:15 AM\n\nFlags & Water:\nFlags will be provided\nIf you have large bike flags\, please bring them.\nWater will be provided.\n\n\n\nSubmitted By: Robi Campbell \nPosition: Arizona Assistant State Captain \n\nNote: You do not have to own/ride a motorcycle or be a veteran to join\, and membership is Free. The only requirement is RESPECT! To subscribe to receive mission notices\, log into the National Site and click on the Members tab at the top. Select the Subscribe to PGR Missions option.\n Print This Page
URL:https://www.patriotguard.org/mission/brian-krumm/
CATEGORIES:Honor Mission
END:VEVENT
END:VCALENDAR