BEGIN:VCALENDAR
VERSION:2.0
PRODID:-//Patriot Guard Riders - ECPv5.6.0//NONSGML v1.0//EN
CALSCALE:GREGORIAN
METHOD:PUBLISH
X-WR-CALNAME:Patriot Guard Riders
X-ORIGINAL-URL:https://www.patriotguard.org
X-WR-CALDESC:Events for Patriot Guard Riders
BEGIN:VTIMEZONE
TZID:America/New_York
BEGIN:DAYLIGHT
TZOFFSETFROM:-0500
TZOFFSETTO:-0400
TZNAME:EDT
DTSTART:20160313T070000
END:DAYLIGHT
BEGIN:STANDARD
TZOFFSETFROM:-0400
TZOFFSETTO:-0500
TZNAME:EST
DTSTART:20161106T060000
END:STANDARD
END:VTIMEZONE
BEGIN:VEVENT
DTSTART;TZID=America/New_York:20160718T090000
DTEND;TZID=America/New_York:20160718T110000
DTSTAMP:20210512T231528
CREATED:20160718T130000Z
LAST-MODIFIED:20191201T144259Z
UID:410548-1468832400-1468839600@www.patriotguard.org
SUMMARY:Brian K. Davis\, 44\, USA
DESCRIPTION:Brian K. Davis\nUSA\nWentzville\, MO\n18 July 16\n\n\nThe family of Brian Kirk Davis\, 44\, requests the  Patriot Guard Riders to stand a flag line honoring their loved one and  hero. Brian proudly served in the United States Army as a Sergeant  First Class.  As a veteran of the Iraqi war\, Sgt. Davis served in a  Headquarters and Headquarters Company.  He worked as a Medic and  Communications NCO serving many Units (Infantry\, Armor\, Communications\,  and Special Forces.  His many awards and commendations include:  Army  Achievement Medal (5th Award)\, National Defense Medal\, NCO Professional  Development Ribbon (2)\, Army Service Ribbon\, Army Good Conduct Medal  (2nd Award)\, Expert Marksmanship Qualification Badge with Rifle Bar\,  Expert Marksmanship Qualification Badge with Pistol Bar\,  Driver and  Mechanic Badge with Driver-T Bar.   He is loved and remembered by his family\, many friends\, and his students of Brazilian Jiu-Jitsu. \nStage:\n8:55\, Monday 18 July\,  Pitman Funeral Home  1545 Wentzville Parkway\, Wentzville MO\n10:00 Service    Escort to Jefferson Barracks National Cemetery immediately following the service. [12:30] \nFlags & Support:  Dennis Kluge\nRide Captain:  Mary “Sister Mary” O’Brien  636.922.4818  thefinnagain@gmail.com \nWeather forecast is hot and humid with 20% chance of rain.\nHydrate well and often.
URL:https://www.patriotguard.org/mission/brian-k-davis-44-usa/
CATEGORIES:Archive
END:VEVENT
END:VCALENDAR