BEGIN:VCALENDAR
VERSION:2.0
PRODID:-//Patriot Guard Riders - ECPv5.6.0//NONSGML v1.0//EN
CALSCALE:GREGORIAN
METHOD:PUBLISH
X-WR-CALNAME:Patriot Guard Riders
X-ORIGINAL-URL:https://www.patriotguard.org
X-WR-CALDESC:Events for Patriot Guard Riders
BEGIN:VTIMEZONE
TZID:America/New_York
BEGIN:DAYLIGHT
TZOFFSETFROM:-0500
TZOFFSETTO:-0400
TZNAME:EDT
DTSTART:20160313T070000
END:DAYLIGHT
BEGIN:STANDARD
TZOFFSETFROM:-0400
TZOFFSETTO:-0500
TZNAME:EST
DTSTART:20161106T060000
END:STANDARD
END:VTIMEZONE
BEGIN:VEVENT
DTSTART;TZID=America/New_York:20160611T090000
DTEND;TZID=America/New_York:20160611T110000
DTSTAMP:20210513T172805
CREATED:20160611T130000Z
LAST-MODIFIED:20191201T145247Z
UID:411438-1465635600-1465642800@www.patriotguard.org
SUMMARY:Brian Janshen
DESCRIPTION:Brian Janshen\nUSMC Veteran\nSaturday\, June 11\, 2016\nCoeur d’ Alene\, Idaho\n\n\n\nThe family of Sgt Brian Janshen has requested the presence of the Patriot Guard  to honor his life and service to his country.\nSgt Janshen served in the USMC from July of 1989 through August of 1994.\n\nDate\nSaturday\, June 11\, 2:00 pm\n\nRally Location\nCoeur d’ Alene DMV\n451 Government Way\nCoeur d’ Alene\, Idaho\n\nTime  12:45 pm\nBrief  1:00 pm\nKSU  1:10 pm\n\nFrom  the rally location the Patriot Guard Riders will move to the Eagles\, 209 E.  Sherman Ave. Coeur d’ Alene\, Idaho and establish a flag line as directed  by the Ride Captain.\n\nRide Captain…….Jerry Bauer [URL=”tel:%28208%29%20659-0697″](208) 659-0697[/URL]\nCage Support……Bob Thomson
URL:https://www.patriotguard.org/mission/brian-janshen/
CATEGORIES:Archive
END:VEVENT
END:VCALENDAR