BEGIN:VCALENDAR
VERSION:2.0
PRODID:-//Patriot Guard Riders - ECPv5.3.2.1//NONSGML v1.0//EN
CALSCALE:GREGORIAN
METHOD:PUBLISH
X-WR-CALNAME:Patriot Guard Riders
X-ORIGINAL-URL:https://www.patriotguard.org
X-WR-CALDESC:Events for Patriot Guard Riders
BEGIN:VTIMEZONE
TZID:America/New_York
BEGIN:DAYLIGHT
TZOFFSETFROM:-0500
TZOFFSETTO:-0400
TZNAME:EDT
DTSTART:20190310T070000
END:DAYLIGHT
BEGIN:STANDARD
TZOFFSETFROM:-0400
TZOFFSETTO:-0500
TZNAME:EST
DTSTART:20191103T060000
END:STANDARD
END:VTIMEZONE
BEGIN:VEVENT
DTSTART;VALUE=DATE:20190625
DTEND;VALUE=DATE:20190626
DTSTAMP:20210405T134356
CREATED:20190624T141409Z
LAST-MODIFIED:20190624T141409Z
UID:165638-1561420800-1561507199@www.patriotguard.org
SUMMARY:Brian Allen Cunningham
DESCRIPTION:Honor Mission\nBrian Allen Cunningham\, Veteran\nUSA – GW/ODS\nForney\, Texas – 06-25-19\n\n\n \n\nABOUT THE MISSION: \nSGT Cunningham entered active duty on September 6\, 1988 and served as an M1 Armor Crewman\, achieving the rank of Sergeant prior to his honorable discharge on June 9\, 1995.\n\n\nPRIMARY STAGING DETAILS: 06-25-19 \nStaging Time: 9:30 am\n \nFirst Baptist Church\n1003 College Street\nForney\, Texas 75126\n\n\nRide Captain: \nBill Kushnir\nbpkush@gte.net\n(214) 995-1536\n\n\nSpecial Instructions: \nBriefing Time: 9:45 am\nIn Position/KSU Time: 10:00 am\nStarting Time: 10:30 am\nRiders will stage at the church to be briefed and to stand tall and silent as family and friends arrive. After the service begins\, flags will be returned to the flag support support vehicle\, which will depart for the cemetery to set flags\, along with the riders who will not be riding in the procession. Procession riders will then receive a safety briefing and stage for the procession to the cemetery. Procession: Escort Provided\n\nFlags & Water:\nFlags will be provided\nIf you have large bike flags\, please bring them.\nWater will be provided.\n\nSTAGING #2 DETAILS: 06-25-19 \nStaging Time: 11:00 am\n \nHillcrest Cemetery\nPinson Road\nForney\, Texas 75126\n\n\nRide Captain: \nBill Kushnir\nbpkush@gte.net\n(214) 995-1536\n\n\nSpecial Instructions: \nBriefing Time: 11:15 am\nIn Position/KSU Time:11:30 am\nStarting Time: 11:45 – Estimated am\nStaging Point: Riders not participating in Part One will stage at the cemetery to be briefed\, set flags and await the arrival of the procession. Riders in the procession will quickly dismount and join the flag line. Riders will stand stall and silent until the completion of the service\, after which\, flags will be returned to the flag support vehicle. Riders will then be debriefed and dismissed. Note: Time of arrival at cemetery is approximate.\n\nFlags & Water:\nFlags will be provided\nIf you have large bike flags\, please bring them.\nWater will be provided. \n\n\n\nSubmitted By: Dan Mathys \nPosition: Texas Ride Captain \n\nNote: You do not have to own/ride a motorcycle or be a veteran to join\, and membership is Free. The only requirement is RESPECT! To subscribe to receive mission notices\, log into the National Site and click on the Members tab at the top. Select the Subscribe to PGR Missions option.\n Print This Page
URL:https://www.patriotguard.org/mission/brian-allen-cunningham/
CATEGORIES:Honor Mission
END:VEVENT
END:VCALENDAR