BEGIN:VCALENDAR
VERSION:2.0
PRODID:-//Patriot Guard Riders - ECPv5.3.2.1//NONSGML v1.0//EN
CALSCALE:GREGORIAN
METHOD:PUBLISH
X-WR-CALNAME:Patriot Guard Riders
X-ORIGINAL-URL:https://www.patriotguard.org
X-WR-CALDESC:Events for Patriot Guard Riders
BEGIN:VTIMEZONE
TZID:America/New_York
BEGIN:DAYLIGHT
TZOFFSETFROM:-0500
TZOFFSETTO:-0400
TZNAME:EDT
DTSTART:20190310T070000
END:DAYLIGHT
BEGIN:STANDARD
TZOFFSETFROM:-0400
TZOFFSETTO:-0500
TZNAME:EST
DTSTART:20191103T060000
END:STANDARD
END:VTIMEZONE
BEGIN:VEVENT
DTSTART;VALUE=DATE:20190417
DTEND;VALUE=DATE:20190418
DTSTAMP:20210401T170114
CREATED:20190414T234804Z
LAST-MODIFIED:20190414T234804Z
UID:157374-1555459200-1555545599@www.patriotguard.org
SUMMARY:Brendon S. DaRosa
DESCRIPTION:Honor Mission\nBrendon S. DaRosa\nMAARNG\nTaunton\, Massachusetts – 04-17-19\n\n\n\n\nABOUT THE MISSION: \nThe family of Brendon S. DaRosa has requested our presence at the funeral of their loved one.\nBrendon was proudly serving his country in the Massachusetts Army National Guard 747th MP unit.\n\n\nPRIMARY STAGING DETAILS: 04-17-19 \nStaging Time: 8:15 AM\n \nDunkin\n232 Broadway (RT138) Corner of Washington\nTaunton\, Massachusetts 02780\n\n\nRide Captain: \nSteve Vieira\nsrvnam69@comcast.net\n\n\nSpecial Instructions: \nWake at: Silva Funeral Home\, 80 Broadway\, Taunton MA. 02780.  Time: 4:00PM Till 8:00 PM. \nChurch Service At: St Anthony Church\, 126 School St.\, Taunton MA. 02780. \nInterment To Follow At: St Joseph Cemetery\, 475 E. Britainnia St.\, Taunton MA. 02780 \nBriefing Time/KSU At: 9:15 AM \n\nFlags & Water:\nFlags will be provided\nLarge Bike Flags will NOT be needed.\nWater WILL NOT be provided\, please bring your own.\n\n\n\n\n\nSubmitted By: Steven Vieira \nPosition: Massachusetts Assistant State Captain \n\nNote: You do not have to own/ride a motorcycle or be a veteran to join\, and membership is Free. The only requirement is RESPECT! To subscribe to receive mission notices\, log into the National Site and click on the Members tab at the top. Select the Subscribe to PGR Missions option.\n Print This Page
URL:https://www.patriotguard.org/mission/brendon-s-darosa/
CATEGORIES:Honor Mission
END:VEVENT
END:VCALENDAR