BEGIN:VCALENDAR
VERSION:2.0
PRODID:-//Patriot Guard Riders - ECPv5.3.2.1//NONSGML v1.0//EN
CALSCALE:GREGORIAN
METHOD:PUBLISH
X-WR-CALNAME:Patriot Guard Riders
X-ORIGINAL-URL:https://www.patriotguard.org
X-WR-CALDESC:Events for Patriot Guard Riders
BEGIN:VTIMEZONE
TZID:America/New_York
BEGIN:DAYLIGHT
TZOFFSETFROM:-0500
TZOFFSETTO:-0400
TZNAME:EDT
DTSTART:20210314T070000
END:DAYLIGHT
BEGIN:STANDARD
TZOFFSETFROM:-0400
TZOFFSETTO:-0500
TZNAME:EST
DTSTART:20211107T060000
END:STANDARD
END:VTIMEZONE
BEGIN:VEVENT
DTSTART;VALUE=DATE:20210402
DTEND;VALUE=DATE:20210403
DTSTAMP:20210401T153609
CREATED:20210329T132554Z
LAST-MODIFIED:20210329T132554Z
UID:573158-1617321600-1617407999@www.patriotguard.org
SUMMARY:Brayden Sorrick
DESCRIPTION:Memorial\nBrayden Sorrick\, Active Duty\nUSA –\nRoanoke\, Indiana – 04-02-21\n\n\n\nABOUT THE MISSION: \nMemorial Tree planting for Hero PFC Sorrick\, who lost his life in an accident at Ft Campbell\, KY.\n\n\nPRIMARY STAGING DETAILS: 04-02-21 \nStaging Time: 1:00 PM\n \nSuburban Propane\n10035 Lower Huntington Rd.\nRoanoke\, Indiana 46783\n\n\nRide Captain: \nMike Fretz\nmikefretz314@gmail.com\n260-438-4152\n\n\nSpecial Instructions: \nStage in driveway for the escort to the family farm approximately 1 mile from here.\nWe will be escorting the Army Moms of Ft. Campbell to the family farm for the ceremony.\n\n\nFlags & Water:\nFlags will be provided\nIf you have large bike flags\, please bring them.\nWater WILL NOT be provided\, please bring your own.\n\n\nSubmitted By: Jack Garrett \nPosition: Indiana Ride Captain \n\nNote: You do not have to own/ride a motorcycle or be a veteran to join\, and membership is Free. The only requirement is RESPECT! To subscribe to receive mission notices\, log into the National Site and click on the Members tab at the top. Select the Subscribe to PGR Missions option.\n Print This Page
URL:https://www.patriotguard.org/mission/brayden-sorrick-2/
CATEGORIES:Memorial
END:VEVENT
END:VCALENDAR