BEGIN:VCALENDAR
VERSION:2.0
PRODID:-//Patriot Guard Riders - ECPv5.3.2.1//NONSGML v1.0//EN
CALSCALE:GREGORIAN
METHOD:PUBLISH
X-WR-CALNAME:Patriot Guard Riders
X-ORIGINAL-URL:https://www.patriotguard.org
X-WR-CALDESC:Events for Patriot Guard Riders
BEGIN:VTIMEZONE
TZID:America/New_York
BEGIN:DAYLIGHT
TZOFFSETFROM:-0500
TZOFFSETTO:-0400
TZNAME:EDT
DTSTART:20190310T070000
END:DAYLIGHT
BEGIN:STANDARD
TZOFFSETFROM:-0400
TZOFFSETTO:-0500
TZNAME:EST
DTSTART:20191103T060000
END:STANDARD
END:VTIMEZONE
BEGIN:VEVENT
DTSTART;VALUE=DATE:20190624
DTEND;VALUE=DATE:20190625
DTSTAMP:20210405T005833
CREATED:20190623T022800Z
LAST-MODIFIED:20190623T022800Z
UID:165446-1561334400-1561420799@www.patriotguard.org
SUMMARY:Bravison “Ben” Wright
DESCRIPTION:Honor Mission\nBravison “Ben” Wright\, Retired\nUSA – Korea\, Vietnam\nLeesville\, Louisiana – 06-24-19\n\n\n\nABOUT THE MISSION: \nAugust 5\, 1932-June 19\, 2019. MSG Wright was retired after serving over 25 years in the United States Army. He was a lifelong member of the VFW. I’ve been told he was an awesome carpenter and has built a number of things for 387 and the VFW. MSG Wright will be missed.\n\n\nPRIMARY STAGING DETAILS: 06-24-19 \nStaging Time: 10:00 AM\n \nLabby\n601 south fourth\nLeesville\, Louisiana 71446\n\n\nRide Captain: \nRickey Wagoner\nRickeyandkelly@yahoo.com\n9039303981\n\n\nSpecial Instructions: \nStage: 10:00\nFuneral service: 10:30\nEscort after service to Central Louisiana Veterans Cemetery.\n\n\nFlags & Water:\nFlags will be provided\nIf you have large bike flags\, please bring them.\nWater will be provided.\n\n\n\nSubmitted By: rickey wagoner \nPosition: Louisiana Ride Captain \n\nNote: You do not have to own/ride a motorcycle or be a veteran to join\, and membership is Free. The only requirement is RESPECT! To subscribe to receive mission notices\, log into the National Site and click on the Members tab at the top. Select the Subscribe to PGR Missions option.\n Print This Page
URL:https://www.patriotguard.org/mission/bravison-ben-wright/
CATEGORIES:Honor Mission
END:VEVENT
END:VCALENDAR