BEGIN:VCALENDAR
VERSION:2.0
PRODID:-//Patriot Guard Riders - ECPv5.3.2.1//NONSGML v1.0//EN
CALSCALE:GREGORIAN
METHOD:PUBLISH
X-WR-CALNAME:Patriot Guard Riders
X-ORIGINAL-URL:https://www.patriotguard.org
X-WR-CALDESC:Events for Patriot Guard Riders
BEGIN:VTIMEZONE
TZID:America/New_York
BEGIN:DAYLIGHT
TZOFFSETFROM:-0500
TZOFFSETTO:-0400
TZNAME:EDT
DTSTART:20190310T070000
END:DAYLIGHT
BEGIN:STANDARD
TZOFFSETFROM:-0400
TZOFFSETTO:-0500
TZNAME:EST
DTSTART:20191103T060000
END:STANDARD
END:VTIMEZONE
BEGIN:VEVENT
DTSTART;VALUE=DATE:20190808
DTEND;VALUE=DATE:20190809
DTSTAMP:20210402T103910
CREATED:20190808T005449Z
LAST-MODIFIED:20190808T005449Z
UID:169971-1565222400-1565308799@www.patriotguard.org
SUMMARY:Brandon Wright
DESCRIPTION:Honor Mission\nBrandon Wright\, Veteran\nUSMC – WoT\nSan Antonio\, Texas – 08-08-19\n\n\n \n\nABOUT THE MISSION: \nThe family of Mr. Brandon Wright\, a US Marine Corp Veteran\, requests the presence and participation of the Patriot Guard Riders at the graveside rendering of military honors of their loved one. Mr. Wright was born on March 25\, 1985 and passed away on Sunday\, July 21\, 2019.Brandon Wright defended his country as a United States Marine Infantryman in Iraq from September 27\, 2007- April 17\, 2008. He also served his community as a firefighter. He loved working on motorcycles and enjoyed riding his grandfather’s old school shovel-head Harley. He was a patriotic man who supported veterans and loved his country.\n\n\nPRIMARY STAGING DETAILS: 08-08-19 \nStaging Time: 12:45 pm\n \nLowe’s Home Improvement\n1470 Austin Hwy\nSan Antonio\, Texas 78209\nMap\n\n\nRide Captain: \nTom “Tom Cat” Wilson\ntomcatwilson\n2019@gmail.com\n\n\nSpecial Instructions: \nBriefing: 01:00 PM\nKSU: 01:15 PM\nInterment: 01:45 PM\nFort Sam Houston National Cemetery\n1520 Harry Wurzbach Rd\nSan Antonio\, TX 78209\n\n\nFlags & Water:\nFlags will be provided\nIf you have large bike flags\, please bring them.\nWater will be provided.\n\n\n\nSubmitted By: Lisa Menard \nPosition: Texas Ride Captain \n\nNote: You do not have to own/ride a motorcycle or be a veteran to join\, and membership is Free. The only requirement is RESPECT! To subscribe to receive mission notices\, log into the National Site and click on the Members tab at the top. Select the Subscribe to PGR Missions option.\n Print This Page
URL:https://www.patriotguard.org/mission/brandon-wright/
CATEGORIES:Honor Mission
END:VEVENT
END:VCALENDAR