BEGIN:VCALENDAR
VERSION:2.0
PRODID:-//Patriot Guard Riders - ECPv5.3.2.1//NONSGML v1.0//EN
CALSCALE:GREGORIAN
METHOD:PUBLISH
X-WR-CALNAME:Patriot Guard Riders
X-ORIGINAL-URL:https://www.patriotguard.org
X-WR-CALDESC:Events for Patriot Guard Riders
BEGIN:VTIMEZONE
TZID:America/New_York
BEGIN:DAYLIGHT
TZOFFSETFROM:-0500
TZOFFSETTO:-0400
TZNAME:EDT
DTSTART:20180311T070000
END:DAYLIGHT
BEGIN:STANDARD
TZOFFSETFROM:-0400
TZOFFSETTO:-0500
TZNAME:EST
DTSTART:20181104T060000
END:STANDARD
END:VTIMEZONE
BEGIN:VEVENT
DTSTART;VALUE=DATE:20181001
DTEND;VALUE=DATE:20181002
DTSTAMP:20210403T022225
CREATED:20180929T121452Z
LAST-MODIFIED:20180929T121452Z
UID:135859-1538352000-1538438399@www.patriotguard.org
SUMMARY:Brandon J. Jeffs
DESCRIPTION:Honor Mission\nBrandon J. Jeffs\, Veteran\nARNG – WoT\nOmaha\, Nebraska – 10-01-18\n\n\n\n\nABOUT THE MISSION: \nThe family of veteran Brandon J. Jeffs\, 54\, has requested the Patriot Guard Riders participate in his services.  Brandon was in the Army National Guard for over 20 years and served overseas in many places including Afghanistan.\n\n\nPRIMARY STAGING DETAILS: 10-01-18 \nStaging Time: 11:00 a.m. \nBraman Mortuary\, SW Chapel\n6505 South 144th St\,\nOmaha\, Nebraska 68137\n\n\nRide Captain: \nMichael Hendrick\nmhendrickomaha@yahoo.com\n402-660-4353\n\n\nSpecial Instructions: \nRiders’ meeting:  11:20 a.m.\nFlag line:  11:30 a.m.\, during visitation\nFuneral Service:  12:30 p.m.\nClutches out:  1:20 p.m. to Omaha National Cemetery\, 14250 Schram Rd.\, Omaha NE 68138\nFlag line:  1:50 p.m.\nCommittal service:  2:00 p.m.\n\nFlag captain needed – please contact the RC if you can help.\n\n\nFlags & Water:\nFlags will be provided\nIf you have large bike flags\, please bring them.\nWater WILL NOT be provided\, please bring your own.\n\n\n\nSubmitted By: Scott Knudsen \nPosition: Nebraska State Captain \n\nNote: You do not have to own/ride a motorcycle or be a veteran to join\, and membership is Free. The only requirement is RESPECT! To subscribe to receive mission notices\, log into the National Site and click on the Members tab at the top. Select the Subscribe to PGR Missions option.\n Print This Page
URL:https://www.patriotguard.org/mission/brandon-j-jeffs/
CATEGORIES:Honor Mission
END:VEVENT
END:VCALENDAR