BEGIN:VCALENDAR
VERSION:2.0
PRODID:-//Patriot Guard Riders - ECPv5.6.0//NONSGML v1.0//EN
CALSCALE:GREGORIAN
METHOD:PUBLISH
X-WR-CALNAME:Patriot Guard Riders
X-ORIGINAL-URL:https://www.patriotguard.org
X-WR-CALDESC:Events for Patriot Guard Riders
BEGIN:VTIMEZONE
TZID:America/New_York
BEGIN:DAYLIGHT
TZOFFSETFROM:-0500
TZOFFSETTO:-0400
TZNAME:EDT
DTSTART:20160313T070000
END:DAYLIGHT
BEGIN:STANDARD
TZOFFSETFROM:-0400
TZOFFSETTO:-0500
TZNAME:EST
DTSTART:20161106T060000
END:STANDARD
END:VTIMEZONE
BEGIN:VEVENT
DTSTART;TZID=America/New_York:20160725T090000
DTEND;TZID=America/New_York:20160725T110000
DTSTAMP:20210512T204905
CREATED:20160725T130000Z
LAST-MODIFIED:20191201T144120Z
UID:410396-1469437200-1469444400@www.patriotguard.org
SUMMARY:Brad L. W. Bearden\, USA\, GWOT / Lowell
DESCRIPTION:Pvt – E1  Brad Lee Wayne Bearden\nUS Army Gulf War Veteran\nLowell\, IN / Elwood\, IL\n25 July 2016\n\n\nThe family of Pvt Brad Lee Wayne Bearden\, US Army\,  has asked the PGR to escort our Veteran to Abraham Lincoln National Cemetery in Elwood\, IL. \nBrad served in the US Army from 2007 till 2009 and had earned the National Defense Service Medal / Global War on Terrorism Service Medal / Iraq Campaign Medal W / Campaign Star / Army Service Ribbon and Overseas Service Ribbon.\n\nPlease come out and show and give this Veteran the respect that he so well deserves. \nStaging : 9:00 am \nSheets Funeral Home\n604 E. Commercial Ave.\nLowell\, IN  46356 \nBreifing : 9:30 am \nKSU : 10:00 am escort  to ALNC \nService: 11:00 am\nAbraham Lincoln National Cemetery\n20953 West Hoff Road\nElwood\, IL \nSRC :\nRodney Swinson\nrodswinson1021@yahoo.com\n708-=205-2151   Cell
URL:https://www.patriotguard.org/mission/brad-l-w-bearden-usa-gwot-lowell/
CATEGORIES:Archive
END:VEVENT
END:VCALENDAR