BEGIN:VCALENDAR
VERSION:2.0
PRODID:-//Patriot Guard Riders - ECPv5.3.2.1//NONSGML v1.0//EN
CALSCALE:GREGORIAN
METHOD:PUBLISH
X-WR-CALNAME:Patriot Guard Riders
X-ORIGINAL-URL:https://www.patriotguard.org
X-WR-CALDESC:Events for Patriot Guard Riders
BEGIN:VTIMEZONE
TZID:America/New_York
BEGIN:DAYLIGHT
TZOFFSETFROM:-0500
TZOFFSETTO:-0400
TZNAME:EDT
DTSTART:20170312T070000
END:DAYLIGHT
BEGIN:STANDARD
TZOFFSETFROM:-0400
TZOFFSETTO:-0500
TZNAME:EST
DTSTART:20171105T060000
END:STANDARD
END:VTIMEZONE
BEGIN:VEVENT
DTSTART;TZID=America/New_York:20170120T140000
DTEND;TZID=America/New_York:20170120T160000
DTSTAMP:20210404T165855
CREATED:20170120T190000Z
LAST-MODIFIED:20191201T031848Z
UID:323857-1484920800-1484928000@www.patriotguard.org
SUMMARY:Boots in the Blue Grass
DESCRIPTION:Boots in the Blue Grass\nLexington\, Kentucky\n20 Jan 2017\n=============================================\n\n\n\nAbout the Mission:\nThe patriot guard riders have been requested to participate in the Boots in the Bluegrass \nCome share in patriotic fellowship among community and our veterans while supporting a good cause! \nEvery year\, “Boots in the Bluegrass” raises funds for worthy charity partners. Since 2013\, three mortgage-free home grants have been given to deserving military families\, and hundreds of veterans have attended the event free. \nInspirational speakers at this year’s event include U.S. Marine LTC Justin Constantine and Bryan Anderson. Dinner will be provided by Double H BBQ. Attendees will enjoy live auctions\, games\, raffles\, and music by Jordan English. \nWe will stage at 1400(2:00pm) on Friday January 20th \nAt the main entrance of the Altech Arena at the Kentucky Horse Park and will be placing flags from the arena to the front gate. We will be breaking down into three groups with three captains. Please contact one of these captains and let them know you’re coming so we can get an accurate count for dinner. \nPrimary Staging Details: 20 Jan 2017\n \n\nPrimary Staging Time: 2 P.M.\nAltech Arena at the Kentucky Horse Park\n4089 Iron Works Pkwy\,\nLexington\, Kentucky – 40511\n\n\nRide Captain:\n \n\nDavid Arnold\n(859)338-8635 \nDavid England\n(859)749-1810 \nJB Reynolds\n(859)948-3351\n\n\nSpecial Instructions:\n \n\nAt the main entrance of the Altech Arena at the Kentucky Horse Park and will be placing flags from the arena to the front gate. We will be breaking down into three groups with three captains. Please contact one of these captains and let them know you’re coming so we can get an accurate count for dinner.\n\n\nFlags:\n \n\nFlags Will Be Provided\n\n\nIf you have large bike flags\, please bring them.\n\n\nWater WILL NOT be provided\, please bring your own.\n\n\n\n===========================\nNote:\nYou do not have to own/ride a motorcycle or be a Veteran to join and membership is Free. The only requirement is RESPECT! To join\, simply go to www.PatriotGuard.org and click on Register. Membership is Free. \nTo subscribe to receive mission notices\, log into the National Site and click on the Mission Tab at the top. Select Upcoming Missions by State. Scroll to the state(s) you would like to receive notices for and click on the green check mark. Detailed instructions are also located in the FAQs on the site by clicking on the Quick Links Tab and selecting FAQs.
URL:https://www.patriotguard.org/mission/boots-in-the-blue-grass/
END:VEVENT
END:VCALENDAR