BEGIN:VCALENDAR
VERSION:2.0
PRODID:-//Patriot Guard Riders - ECPv5.3.2.1//NONSGML v1.0//EN
CALSCALE:GREGORIAN
METHOD:PUBLISH
X-WR-CALNAME:Patriot Guard Riders
X-ORIGINAL-URL:https://www.patriotguard.org
X-WR-CALDESC:Events for Patriot Guard Riders
BEGIN:VTIMEZONE
TZID:America/New_York
BEGIN:DAYLIGHT
TZOFFSETFROM:-0500
TZOFFSETTO:-0400
TZNAME:EDT
DTSTART:20190310T070000
END:DAYLIGHT
BEGIN:STANDARD
TZOFFSETFROM:-0400
TZOFFSETTO:-0500
TZNAME:EST
DTSTART:20191103T060000
END:STANDARD
END:VTIMEZONE
BEGIN:VEVENT
DTSTART;VALUE=DATE:20190728
DTEND;VALUE=DATE:20190729
DTSTAMP:20210402T192237
CREATED:20190727T000305Z
LAST-MODIFIED:20190727T000305Z
UID:168768-1564272000-1564358399@www.patriotguard.org
SUMMARY:Bobby Wayne Norwood
DESCRIPTION:Honor Mission\nBobby Wayne Norwood\, Veteran\nUSA\nMarshall\, Texas – 07-28-19\n\n\n \n\nABOUT THE MISSION: \nBobby Wayne Norwood served in the United States Army for three years during the Korean war. He was discharged when his father died\, to return home to care for his mother and siblings. He was a firefighter in Shreveport and owned his own company after that. Obituary\n\n\nPRIMARY STAGING DETAILS: 07-28-19 \nStaging Time: 12:00 pm\n \nMeadowbrook Funeral Home\n1804 S. Washington\nMarshall\, Texas 75670\nMap\n\n\nRide Captain: \nTed Beauchamp\n254-522-5141\ntbeauch1945@gmail.com\n\n\nSpecial Instructions: \nRiders meeting at 12:45 PM.\nThis will be a flag line only.\nPlease remain flexible as to the requirements of the mission. (SEMPER GUMBY)\n\nFlags & Water:\nFlags will be provided\nLarge Bike Flags will NOT be needed.\nWater will be provided.\n\n\n\nSubmitted By: Michael Eubank \nPosition: Texas Deputy State Captain \n\nNote: You do not have to own/ride a motorcycle or be a veteran to join\, and membership is Free. The only requirement is RESPECT! To subscribe to receive mission notices\, log into the National Site and click on the Members tab at the top. Select the Subscribe to PGR Missions option.\n Print This Page
URL:https://www.patriotguard.org/mission/bobby-wayne-norwood/
CATEGORIES:Honor Mission
END:VEVENT
END:VCALENDAR