BEGIN:VCALENDAR
VERSION:2.0
PRODID:-//Patriot Guard Riders - ECPv5.3.2.1//NONSGML v1.0//EN
CALSCALE:GREGORIAN
METHOD:PUBLISH
X-WR-CALNAME:Patriot Guard Riders
X-ORIGINAL-URL:https://www.patriotguard.org
X-WR-CALDESC:Events for Patriot Guard Riders
BEGIN:VTIMEZONE
TZID:America/New_York
BEGIN:DAYLIGHT
TZOFFSETFROM:-0500
TZOFFSETTO:-0400
TZNAME:EDT
DTSTART:20190310T070000
END:DAYLIGHT
BEGIN:STANDARD
TZOFFSETFROM:-0400
TZOFFSETTO:-0500
TZNAME:EST
DTSTART:20191103T060000
END:STANDARD
END:VTIMEZONE
BEGIN:VEVENT
DTSTART;VALUE=DATE:20190729
DTEND;VALUE=DATE:20190730
DTSTAMP:20210402T134345
CREATED:20190728T020732Z
LAST-MODIFIED:20190728T020732Z
UID:168957-1564358400-1564444799@www.patriotguard.org
SUMMARY:Bobby Lynn McClure
DESCRIPTION:Honor Mission\nBobby Lynn McClure\, Veteran\nUSN –\nConcord\, North Carolina – 07-29-19\n\n\n\nABOUT THE MISSION: \nFellow Patriots\, the Patriot Guard Riders have been requested by the family of Bobby Lynn McClure (61) US Navy\, to stand for him as he once stood for us. During his service for our country Mr. McClure earned the rank of Airman (E3). He was stationed in Jacksonville\, FL and was assigned to the U.S.S. Nimitz.\nObituary\nPlease join us in honoring this American Hero.\n\n\nPRIMARY STAGING DETAILS: 07-29-19 \nStaging Time: 10:50 AM\n \nHartsell Funeral Home\n460 Branchview Dr. NE\nConcord\, North Carolina\nMap\n\n\nRide Captain: \nTim Snyder\n704-507-3010\n\n\nSpecial Instructions: \nBriefing: 10:55 am\nWe will stand a Flag line after briefing for friends and family till approximately 12 noon.\nAt this time we will depart and wait for Mr. McClue & family at Carolina Memorial Park\, located on Mt. Olivet Road in Kannapolis\, NC.\n\n\nFlags & Water:\nFlags will be provided\nIf you have large bike flags\, please bring them.\nWater WILL NOT be provided\, please bring your own\n\n\n\nSubmitted By: cw smith \nPosition: North Carolina Ride Captain \n\nNote: You do not have to own/ride a motorcycle or be a veteran to join\, and membership is Free. The only requirement is RESPECT! To subscribe to receive mission notices\, log into the National Site and click on the Members tab at the top. Select the Subscribe to PGR Missions option.\n Print This Page
URL:https://www.patriotguard.org/mission/bobby-lynn-mcclure/
CATEGORIES:Honor Mission
END:VEVENT
END:VCALENDAR