BEGIN:VCALENDAR
VERSION:2.0
PRODID:-//Patriot Guard Riders - ECPv5.3.2.1//NONSGML v1.0//EN
CALSCALE:GREGORIAN
METHOD:PUBLISH
X-WR-CALNAME:Patriot Guard Riders
X-ORIGINAL-URL:https://www.patriotguard.org
X-WR-CALDESC:Events for Patriot Guard Riders
BEGIN:VTIMEZONE
TZID:America/New_York
BEGIN:DAYLIGHT
TZOFFSETFROM:-0500
TZOFFSETTO:-0400
TZNAME:EDT
DTSTART:20170312T070000
END:DAYLIGHT
BEGIN:STANDARD
TZOFFSETFROM:-0400
TZOFFSETTO:-0500
TZNAME:EST
DTSTART:20171105T060000
END:STANDARD
END:VTIMEZONE
BEGIN:VEVENT
DTSTART;TZID=America/New_York:20170513T163000
DTEND;TZID=America/New_York:20170513T183000
DTSTAMP:20210403T041301
CREATED:20170513T203000Z
LAST-MODIFIED:20191201T031109Z
UID:315430-1494693000-1494700200@www.patriotguard.org
SUMMARY:Bobby Lloyd Stubbs\, Veteran\, USA\, USAF\, ARNG\, USAR\, USAFR
DESCRIPTION:Bobby Lloyd Stubbs\, Veteran\nUSA\, USAF ARNG\, USAR\, USAFR\nPensacola\, Florida – 13 May 2017\n\n\n\n[HR][/HR]\nABOUT THE MISSION: \nThe family of Captain Bobby L. Stubbs graciously requested the Patriot  Guard stand a flag line in honor of his military service to this nation.  Captain Stubbs military service took many paths.  At the age of 17\, he  joined the US Air Force in 1956 after which he served in the US Air  Force Reserve\, US Army National Guard\, US Army Reserve\, Regular US Army\,  and ending his military service in the US Army Reserve in 1977.\nThe Patriot Guard will stand a flag line prior to the service at Harper  Morris Memorial Chapel\, 2276 Airport Blvd\, Pensacola\, Fl.\nAll arrangements are entrusted to Harper Morris Funeral Home. \nPRIMARY STAGING DETAILS:  13 May 2017 \n \nPrimary Staging Time:  1330 P.M.\n\nMcDonald’s\, 1500 Airport Blvd.\n\nPensacola\, Florida –\n\n\n\n\n\nRide Captain:\n\nRay Doyle\nretonaharley@gmail.com\n850-902-0123\n\n\n \n\nSpecial Instructions:\n\nNOTE:  Recommended attire is that we wear long sleeve  shirts\, long trousers\, long fingered gloves\, DOT approved helmets\,  leather footwear covering the ankles and appropriate eye wear. \nItinerary:\n1415 – Briefing for all riders\n1500 – KSU to Harper Morris Memorial Chapel\n1515 – Arrive Harper Morris Memorial Chapel for Flag Line\n1600 – Service starts\n\n\n \n\nFlags & Water:\n\nFlags Will Be Provided\n\nLarge Bike Flags will NOT be needed.\n\nWater will be provided.\n\n\nSubmitted By:  Ray Doyle\nPosition:  Ride Captain \n[HR][/HR]\nNote:\nYou do not have to own/ride a motorcycle or be a Veteran to join and membership is Free. The only requirement is RESPECT! To join\, simply go to www.PatriotGuard.org and click on Register. Membership is Free. \nTo subscribe to receive mission notices\, log into the National Site and  click on the Mission Tab at the top. Select Upcoming Missions by State.  Scroll to the state(s) you would like to receive notices for and click  on the green check mark. Detailed instructions are also located in the  FAQs on the site by clicking on the Quick Links Tab and selecting FAQs.
URL:https://www.patriotguard.org/mission/bobby-lloyd-stubbs-veteran-usa-usaf-arng-usar-usafr/
END:VEVENT
END:VCALENDAR