BEGIN:VCALENDAR
VERSION:2.0
PRODID:-//Patriot Guard Riders - ECPv5.3.2.1//NONSGML v1.0//EN
CALSCALE:GREGORIAN
METHOD:PUBLISH
X-WR-CALNAME:Patriot Guard Riders
X-ORIGINAL-URL:https://www.patriotguard.org
X-WR-CALDESC:Events for Patriot Guard Riders
BEGIN:VTIMEZONE
TZID:America/New_York
BEGIN:DAYLIGHT
TZOFFSETFROM:-0500
TZOFFSETTO:-0400
TZNAME:EDT
DTSTART:20190310T070000
END:DAYLIGHT
BEGIN:STANDARD
TZOFFSETFROM:-0400
TZOFFSETTO:-0500
TZNAME:EST
DTSTART:20191103T060000
END:STANDARD
END:VTIMEZONE
BEGIN:VEVENT
DTSTART;VALUE=DATE:20190702
DTEND;VALUE=DATE:20190703
DTSTAMP:20210402T010807
CREATED:20190701T035831Z
LAST-MODIFIED:20190701T035831Z
UID:166356-1562025600-1562111999@www.patriotguard.org
SUMMARY:Bobby Kyle Oglethorpe
DESCRIPTION:Honor Mission\nBobby Kyle Oglethorpe\, Veteran\nUSAF –\nGrand Saline\, Texas – 07-02-19\n\n\n\nABOUT THE MISSION: \nBobby enlisted in the United States Air Force as a aircraft mechanic from 1950-1954. He was awarded the National Defense Medal and the Good Conduct Medal.\nPlease read the Obituary\n\n\nPRIMARY STAGING DETAILS: 07-02-19 \nStaging Time: 12:00 PM\n \nWoodside Cemetery\nNorth FM 17\nGrand Saline\, Texas 75140\nMap\n\n\nRide Captain: \nBruce Lowe\nPhone: 214-478-6966\nEmail Address: BikerBruce@att.net\n\n\nSpecial Instructions: \nWoodside Cemetery from 12:00 p.m. 12:30 p.m. with a riders meeting at 12:45 p.m.\nFLAG LINE ONLY AT CEMETERY\nPlease remain flexible as to the requirements of the mission. (SEMPER GUMBY)\n\n\nFlags & Water:\nFlags will be provided\nLarge Bike Flags will NOT be needed.\nWater will be provided.\n\n\n\nSubmitted By: Michael Eubank \nPosition: Texas Deputy State Captain \n\nNote: You do not have to own/ride a motorcycle or be a veteran to join\, and membership is Free. The only requirement is RESPECT! To subscribe to receive mission notices\, log into the National Site and click on the Members tab at the top. Select the Subscribe to PGR Missions option.\n Print This Page
URL:https://www.patriotguard.org/mission/bobby-kyle-oglethorpe/
CATEGORIES:Honor Mission
END:VEVENT
END:VCALENDAR