BEGIN:VCALENDAR
VERSION:2.0
PRODID:-//Patriot Guard Riders - ECPv5.6.0//NONSGML v1.0//EN
CALSCALE:GREGORIAN
METHOD:PUBLISH
X-WR-CALNAME:Patriot Guard Riders
X-ORIGINAL-URL:https://www.patriotguard.org
X-WR-CALDESC:Events for Patriot Guard Riders
BEGIN:VTIMEZONE
TZID:America/New_York
BEGIN:DAYLIGHT
TZOFFSETFROM:-0500
TZOFFSETTO:-0400
TZNAME:EDT
DTSTART:20160313T070000
END:DAYLIGHT
BEGIN:STANDARD
TZOFFSETFROM:-0400
TZOFFSETTO:-0500
TZNAME:EST
DTSTART:20161106T060000
END:STANDARD
END:VTIMEZONE
BEGIN:VEVENT
DTSTART;TZID=America/New_York:20160615T090000
DTEND;TZID=America/New_York:20160615T110000
DTSTAMP:20210513T134120
CREATED:20160615T130000Z
LAST-MODIFIED:20191201T145109Z
UID:411294-1465981200-1465988400@www.patriotguard.org
SUMMARY:Bobby Joe Langford\, 80\, USN(RET)
DESCRIPTION:Mission to Honor\nBOBBY “B.J.” JOE LANGFORD(80)\nUS NAVY (RETIRED)\nKOREA/VIETNAM VETERAN\nWEDNESDAY\, JUNE 15\, 2016                  [IMG]https://mail.google.com/mail/u/0/?ui=2&ik=220153342a&view=fimg&th=1554c06a88e8cafb&attid=0.1&disp=emb&attbid=ANGjdJ96eql5x1ApKgNlz2L_bsxvk7bum4dFlnNpooVvxBgXFVoMw_4nQsftzwZ_fL_huge6JUc3g3YLEffvVgYXjiF_tGI10Sx4EkFey4BqThhTwFkRrwOBmyUB6YE&sz=w518-h518&ats=1465919555870&rm=1554c06a88e8cafb&zw&atsh=1[/IMG]\n\n\nHis family has requested that the PGR attend his services.  The mission is a ‘go’ and all contacts have been made. Mr. Langford attended the University of Texas at Arlington and was retired from Texas Instruments and the United States Navy\, serving in the Korean\, Vietnam and Cold wars. He served one year on the City of Bullard Council and five years\, from June 1998 to May 2003\, as the Mayor of Bullard. He helped found the Bullard Area Business Association that later became the Bullard Area Chamber of Commerce (BACC). He served three years on the BACC board of directors\, one as President. He was selected as the Chamber’s first Man of the Year in 1999. \nServices:  2:00 PM Wednesday\, June 15th\, at the Stewart Family Funeral Home\, 7525 Old Jacksonville Hwy.\, Tyler\, Texas 75703. \n***BIG FLAG BIKES ARE REQUESTED*** \nStaging:  at the funeral home from 12:00 to 12:30 PM with a riders meeting at 12:40.  Directions to the cemetery will be given by the Ride Captain.  All new members are requested to sign a PGR Release of Liability prior to Flag Line.  Please remain flexible as to the requirements of the mission (SEMPER GUMBY).\n\nMap link staging area: http://tinyurl.com/z8ejlb8\n\nRide Captain:  Mike “Big Mike” Eubank\nPhone: [URL=”tel:903-738-1861″]903-738-1861[/URL]\nEmail Address: fak_mike@yahoo.com    \nFlag Captain:  Gail Johnston\nPhone:  [URL=”tel:903-372-6049″]903-372-6049[/URL]\nEmail Address:  lakepark@suddenlink.net \nWeather Report: high will be close to 95 so please hydrate often\, including the night before. \nALL GROUPS\, CLUBS\, INDEPENDENTS\, ETC. ARE WELCOME.  The only prerequisite is RESPECT.  Also remember\, you do not have to ride a motorcycle to join in.  The flag line is open to all who wish to participate.    \nStand tall and silent as you honor this fallen veteran and his family.
URL:https://www.patriotguard.org/mission/bobby-joe-langford-80-usnret/
CATEGORIES:Archive
END:VEVENT
END:VCALENDAR