BEGIN:VCALENDAR
VERSION:2.0
PRODID:-//Patriot Guard Riders - ECPv5.3.2.1//NONSGML v1.0//EN
CALSCALE:GREGORIAN
METHOD:PUBLISH
X-WR-CALNAME:Patriot Guard Riders
X-ORIGINAL-URL:https://www.patriotguard.org
X-WR-CALDESC:Events for Patriot Guard Riders
BEGIN:VTIMEZONE
TZID:America/New_York
BEGIN:DAYLIGHT
TZOFFSETFROM:-0500
TZOFFSETTO:-0400
TZNAME:EDT
DTSTART:20170312T070000
END:DAYLIGHT
BEGIN:STANDARD
TZOFFSETFROM:-0400
TZOFFSETTO:-0500
TZNAME:EST
DTSTART:20171105T060000
END:STANDARD
END:VTIMEZONE
BEGIN:VEVENT
DTSTART;TZID=America/New_York:20170901T134500
DTEND;TZID=America/New_York:20170901T154500
DTSTAMP:20210403T063751
CREATED:20170901T174500Z
LAST-MODIFIED:20201227T154700Z
UID:310112-1504273500-1504280700@www.patriotguard.org
SUMMARY:Bobby Hugh Butler\, Veteran\, USN
DESCRIPTION:Honor Mission\nBobby Hugh Butler\, Veteran\nUSN\nDelight\, Arkansas – 01 Sep 2017\n\nABOUT THE MISSION: \nFamily has requested the Patriot Guard Riders to attend services for this Hero. Bobby Hugh Butler served 4 years in the U.S. Navy on the USS Ponchatoula.\nPRIMARY STAGING DETAILS: 01 Sep 2017\nPrimary Staging Time: 1:45 P.M. \nLiberty Hill Missionary Baptist Church\n1591 Hwy 195 south\nDelight\, Arkansas – 71940\nRide Captain: \nBill ‘Cavalry’ Booth\nmtang83@hotmail.com\nSpecial Instructions: \nBriefing time: 2:00pm (14:00)\nFlag Line: 2:30pm (14:30)\nBike or Cages Welcomed\nFlags & Water: \nFlags Will Be Provided\nIf you have large bike flags\, please bring them.\nWater will be provided.\n\n\nSubmitted By: William Booth\nPosition: Ride Captain\n \n\nNote:\nYou do not have to own/ride a motorcycle or be a Veteran to join and membership is Free. The only requirement is RESPECT! To join\, simply go to www.PatriotGuard.org and click on Register. Membership is Free. \nTo subscribe to receive mission notices\, log into the National Site and click on the Mission Tab at the top. Select the Subscribe to Missions option.
URL:https://www.patriotguard.org/mission/bobby-hugh-butler-veteran-usn/
CATEGORIES:Honor Mission
END:VEVENT
END:VCALENDAR