BEGIN:VCALENDAR
VERSION:2.0
PRODID:-//Patriot Guard Riders - ECPv5.3.2.1//NONSGML v1.0//EN
CALSCALE:GREGORIAN
METHOD:PUBLISH
X-WR-CALNAME:Patriot Guard Riders
X-ORIGINAL-URL:https://www.patriotguard.org
X-WR-CALDESC:Events for Patriot Guard Riders
BEGIN:VTIMEZONE
TZID:America/New_York
BEGIN:DAYLIGHT
TZOFFSETFROM:-0500
TZOFFSETTO:-0400
TZNAME:EDT
DTSTART:20190310T070000
END:DAYLIGHT
BEGIN:STANDARD
TZOFFSETFROM:-0400
TZOFFSETTO:-0500
TZNAME:EST
DTSTART:20191103T060000
END:STANDARD
END:VTIMEZONE
BEGIN:VEVENT
DTSTART;VALUE=DATE:20190823
DTEND;VALUE=DATE:20190824
DTSTAMP:20210402T104433
CREATED:20190822T102505Z
LAST-MODIFIED:20190822T102505Z
UID:171606-1566518400-1566604799@www.patriotguard.org
SUMMARY:Bobby Eugene Brown
DESCRIPTION:Honor Mission\nBobby Eugene Brown\, Veteran\nUSMC – Vietnam\nMULTI-CITY\, Texas – 08-23-19\n\n\n\nABOUT THE MISSION: \nFuneral Service & Procession\, Interment Service.\n\n\nPRIMARY STAGING DETAILS: 08-23-19 \nStaging Time: 10:00 AM\n \nMidlothian Funeral Home\n200 E. Ave E\nMidlothian\, Texas 76065\n\n\nRide Captain: \nRick Elliott\nrick.elliott@yahoo.com\n(214) 356-7535\n\nAsst: Tom Hardin\, tom.hardin27@hotmail.com\, (817) 228-7845\n\n\nSpecial Instructions: \nStaging Time: 10:00\nBriefing Time: 10:10\nIn Position/KSU Time: 10:20\nStarting Time: 10:30\nAfter the Mission Brief\, the Riders will establish the Flag Line and await the arrival of Mr. Brown’s family and friends. When directed\, the Riders will return the flags to the support vehicle\, receive the Safety Brief and prepare to accompany the procession to the cemetery. Riders not participating in the procession will proceed to the cemetery and assist with setting up the flags. Procession: Escort Provided\n\n\nFlags & Water:\nFlags will be provided\nIf you have large bike flags\, please bring them.\nWater will be provided.\n\nSTAGING #2 DETAILS: 08-23-19 \nStaging Time: 12:15  PM\n \nDFW National Cemetery\n2000 Mountain Creek Pkwy\nDallas\, Texas 75211\n\n\nRide Captain: \nRick Elliott\nrick.elliott@yahoo.com\n(214) 356-7535\n\nAsst: Tom Hardin\, tom.hardin27@hotmail.com\, (817) 228-7845\n\n\nSpecial Instructions: \nStaging Time: 12:15\nBriefing Time: 12:30\nIn Position/KSU Time: 12:45\nStarting Time: 1:00\nAfter the Mission Briefing\, honor bikes will be identified\, if needed\, and moved to the Staging Lane to accompany the procession. The remainder of the Riders will proceed to the designated Committal Shelter\, establish the Flag Line and prepare to receive the family and friends of Bobby Brown. When directed\, the Riders will return the flags to storage\, be debriefed and dismissed.\n\n\nFlags & Water:\nFlags will be provided\nLarge Bike Flags will NOT be needed.\nWater will be provided.\n\n\n\nSubmitted By: Dan Mathys \nPosition: Texas Ride Captain \n\nNote: You do not have to own/ride a motorcycle or be a veteran to join\, and membership is Free. The only requirement is RESPECT! To subscribe to receive mission notices\, log into the National Site and click on the Members tab at the top. Select the Subscribe to PGR Missions option.\n Print This Page
URL:https://www.patriotguard.org/mission/bobby-eugene-brown/
CATEGORIES:Honor Mission
END:VEVENT
END:VCALENDAR