BEGIN:VCALENDAR
VERSION:2.0
PRODID:-//Patriot Guard Riders - ECPv5.3.2.1//NONSGML v1.0//EN
CALSCALE:GREGORIAN
METHOD:PUBLISH
X-WR-CALNAME:Patriot Guard Riders
X-ORIGINAL-URL:https://www.patriotguard.org
X-WR-CALDESC:Events for Patriot Guard Riders
BEGIN:VTIMEZONE
TZID:America/New_York
BEGIN:DAYLIGHT
TZOFFSETFROM:-0500
TZOFFSETTO:-0400
TZNAME:EDT
DTSTART:20170312T070000
END:DAYLIGHT
BEGIN:STANDARD
TZOFFSETFROM:-0400
TZOFFSETTO:-0500
TZNAME:EST
DTSTART:20171105T060000
END:STANDARD
END:VTIMEZONE
BEGIN:VEVENT
DTSTART;TZID=America/New_York:20171106T094500
DTEND;TZID=America/New_York:20171106T114500
DTSTAMP:20210403T033759
CREATED:20171106T144500Z
LAST-MODIFIED:20191201T032557Z
UID:329517-1509961500-1509968700@www.patriotguard.org
SUMMARY:Bob Wallace\, USN\, USNR
DESCRIPTION:Bob Wallace\nUSN USNR\nPuxico\, Missouri – 06 Nov 2017\n\n\n[HR][/HR]\nABOUT THE MISSION:\n\n \n\nThe family of U.S. Navy Veteran Bob Wallace  (82) has requested the Patriot Guard Riders for the final mission of  their loved one. \nBobby served in the Navy form 1953-1957 and then the  Navy Reserves from 1960-1963. \nHe is survived by 2 sons and a daughter\,  five grandchildren & three great grandchildren. \nAfter a career in  electrical engineering in St. Louis\, Bobby returned to Puxico\, MO where  he enjoyed woodworking\, hunting & fishing. \nThe PGR will stand a silent flag line at the funeral home from 10:00 AM – 11:00 AM. \nImmediately following 11:00 AM service the PGR will escort to Ash Hill Cemetery for interment with Full Military Honors. \nSupport: Teresa “Smilz” Barnhouse \nWeather: 55° 60 % chance of rain in afternoon. Please dress and travel accordingly. Cage if need be.\n\n\nPRIMARY STAGING DETAILS:  06 Nov 2017\nPrimary Staging Time: 9:45 AM \n\nWatkins & Sons Funeral Home\n300 N. Hickman St.\nPuxico\, Missouri – 63960\n\n\n\nRide Captain: \n\nDave “Rebel” Beck\ndbeck59110@aol.com\n314-330-6974\n\n\nSpecial Instructions:\n\nFlags & Water: \n\nFlags Will Be Provided\nIf you have large bike flags\, please bring them.\nWater will be provided.\n\n\n \nSubmitted By: Dave Beck\nPosition: Ride Captain\n[HR][/HR]Note:\n\nYou do not have to own/ride a motorcycle or be a Veteran to join and membership is Free. The only requirement is RESPECT! To join\, simply go to www.PatriotGuard.org and click on Register. Membership is Free. \nTo subscribe to receive mission notices\, log into the National Site and click on the Mission Tab at the top. Select the Subscribe to Missions option.
URL:https://www.patriotguard.org/mission/bob-wallace-usn-usnr/
LOCATION:Benton “Bud” Burdett Burright
END:VEVENT
END:VCALENDAR