BEGIN:VCALENDAR
VERSION:2.0
PRODID:-//Patriot Guard Riders - ECPv5.6.0//NONSGML v1.0//EN
CALSCALE:GREGORIAN
METHOD:PUBLISH
X-WR-CALNAME:Patriot Guard Riders
X-ORIGINAL-URL:https://www.patriotguard.org
X-WR-CALDESC:Events for Patriot Guard Riders
BEGIN:VTIMEZONE
TZID:America/New_York
BEGIN:DAYLIGHT
TZOFFSETFROM:-0500
TZOFFSETTO:-0400
TZNAME:EDT
DTSTART:20160313T070000
END:DAYLIGHT
BEGIN:STANDARD
TZOFFSETFROM:-0400
TZOFFSETTO:-0500
TZNAME:EST
DTSTART:20161106T060000
END:STANDARD
END:VTIMEZONE
BEGIN:VEVENT
DTSTART;TZID=America/New_York:20160616T090000
DTEND;TZID=America/New_York:20160616T110000
DTSTAMP:20210513T183723
CREATED:20160616T130000Z
LAST-MODIFIED:20191201T145056Z
UID:411273-1466067600-1466074800@www.patriotguard.org
SUMMARY:Bob L. Patterson\, 78\, USN Veteran
DESCRIPTION:The Patriot Guard Riders have been honored with a request from the family of Bob L. Patterson to stand a Flag Line and escort their loved one to his final resting place. \nBob served his country with honor and distinction in the United States Navy.  Bob passed away on 12 June 2016 at the age of 78.  Bob was a member of the Scottish Rite Masonic organization as well as the International Association of Firefighters. \nThe PGR will stage at 9:45am on Thursday 16 June 2016 at Hutson Funeral Home\, 601 W. Main Street in Steelville\, MO.  A briefing will be held at 10:00am followed by a Flag Line from 10:15am-11:00am.  At the conclusion of the funeral service we will escort Bob to his final resting place at Steelville Cemetery where full military honors will be held. \nTemperatures are expected to be around 90 degrees at the time of staging with a high temperature of 101 degrees.  It is vitally important that you HYDRATE\, HYDRATE\, HYDRATE. \nRide Captain in Charge (RCIC): \nJim “Radio Man” Boettcher\njimboettcher609@yahoo.com\n573-453-0727
URL:https://www.patriotguard.org/mission/bob-l-patterson-78-usn-veteran/
CATEGORIES:Archive
END:VEVENT
END:VCALENDAR