BEGIN:VCALENDAR
VERSION:2.0
PRODID:-//Patriot Guard Riders - ECPv5.3.2.1//NONSGML v1.0//EN
CALSCALE:GREGORIAN
METHOD:PUBLISH
X-WR-CALNAME:Patriot Guard Riders
X-ORIGINAL-URL:https://www.patriotguard.org
X-WR-CALDESC:Events for Patriot Guard Riders
BEGIN:VTIMEZONE
TZID:America/New_York
BEGIN:DAYLIGHT
TZOFFSETFROM:-0500
TZOFFSETTO:-0400
TZNAME:EDT
DTSTART:20190310T070000
END:DAYLIGHT
BEGIN:STANDARD
TZOFFSETFROM:-0400
TZOFFSETTO:-0500
TZNAME:EST
DTSTART:20191103T060000
END:STANDARD
END:VTIMEZONE
BEGIN:VEVENT
DTSTART;VALUE=DATE:20190916
DTEND;VALUE=DATE:20190917
DTSTAMP:20210401T074308
CREATED:20190915T154534Z
LAST-MODIFIED:20190915T154534Z
UID:173991-1568592000-1568678399@www.patriotguard.org
SUMMARY:Bob G. Alberding Sr.
DESCRIPTION:Honor Mission\nBob G. Alberding Sr.\, Veteran\nUSN –\nSapulpa\, Oklahoma – 09-16-19\n\n\n\nABOUT THE MISSION: \nThe family of Chief Bob G. Alberding Sr.\, Sapulpa FD Veteran and US Navy Veteran\, has asked the PGR to stand a Flag line at his services to be held at 2:00 PM. Interment will be at Green Hill Cemetery\, 400 E. Teel\, Sapulpa Ok.\n\n\nPRIMARY STAGING DETAILS: 09-16-19 \nStaging Time: 1:00 PM\n \nWestside FWB Church\n1403 S Cheyenne\nSapulpa\, Oklahoma 74066\n\n\nRide Captain: \nTom Pope\n918.740.1026\ntom-pope@sbcglobal.net\n\n\nSpecial Instructions: \nBriefing 1:15 PM\nFlag Line 1:30 PM\nPGR may be asked to perform Military Honors\n\n\nFlags & Water:\nFlags will be provided\nIf you have large bike flags\, please bring them.\nWater WILL NOT be provided\, please bring your own.\n\n\n\nSubmitted By: Tom Pope \nPosition: Oklahoma Ride Captain \n\nNote: You do not have to own/ride a motorcycle or be a veteran to join\, and membership is Free. The only requirement is RESPECT! To subscribe to receive mission notices\, log into the National Site and click on the Members tab at the top. Select the Subscribe to PGR Missions option.\n Print This Page
URL:https://www.patriotguard.org/mission/bob-g-alberding-sr/
CATEGORIES:Honor Mission
END:VEVENT
END:VCALENDAR