BEGIN:VCALENDAR
VERSION:2.0
PRODID:-//Patriot Guard Riders - ECPv5.3.2.1//NONSGML v1.0//EN
CALSCALE:GREGORIAN
METHOD:PUBLISH
X-WR-CALNAME:Patriot Guard Riders
X-ORIGINAL-URL:https://www.patriotguard.org
X-WR-CALDESC:Events for Patriot Guard Riders
BEGIN:VTIMEZONE
TZID:America/New_York
BEGIN:DAYLIGHT
TZOFFSETFROM:-0500
TZOFFSETTO:-0400
TZNAME:EDT
DTSTART:20190310T070000
END:DAYLIGHT
BEGIN:STANDARD
TZOFFSETFROM:-0400
TZOFFSETTO:-0500
TZNAME:EST
DTSTART:20191103T060000
END:STANDARD
END:VTIMEZONE
BEGIN:VEVENT
DTSTART;VALUE=DATE:20190527
DTEND;VALUE=DATE:20190528
DTSTAMP:20210405T055734
CREATED:20190526T104048Z
LAST-MODIFIED:20190526T104048Z
UID:161691-1558915200-1559001599@www.patriotguard.org
SUMMARY:Blanchard Memorial Day Veterans' Recognition
DESCRIPTION:HOTH Mission\nBlanchard Memorial Day Veterans Recognition\nBlanchard\, Oklahoma – 05-27-19\n\n\n\n\nABOUT THE MISSION: \nThe Blanchard American Legion and VFW have asked the PGR to assist them in honoring all veterans on Memorial Day\, Monday\, May 27th.\n\n\nPRIMARY STAGING DETAILS: 05-27-19 \nStaging Time: 8:00 a.m.\n \nLiberty National Bank\n1525 N. Council Ave.\nBlanchard\, Oklahoma\n\n\nRide Captain: \nBruce “Sixgun” McCormick\, (405) 933-5462\, bkrodeoranch@sbcglobal.net\nAssisting:  Mike Way\n\n\nSpecial Instructions: \nMandatory briefing at 8:15 a.m.\nAfter briefing\, a small group of riders will remain at the bank parking lot to meet the runners of the 5K Log Carry Run and hand each of them a flag.  The larger group of riders will proceed to the cemetery and stake both sides of the drive into the cemetery.  As the runners arrive at the cemetery\, riders will take flags from the runners and place them on a stake.  A short ceremony will be held after the arrival of the runners.\nWeather:  Predicted to be 82 with a 30% chance of rain.\nRide or drive to your ability\, and please remember to hydrate prior to and during this mission.\n\n\nFlags & Water:\nFlags will be provided\nIf you have large bike flags\, please bring them.\nWater WILL NOT be provided\, please bring your own.\n\n\nSubmitted By: Ray Gehrig \nPosition: Oklahoma Ride Captain \n\nNote: You do not have to own/ride a motorcycle or be a veteran to join\, and membership is Free. The only requirement is RESPECT! To subscribe to receive mission notices\, log into the National Site and click on the Members tab at the top. Select the Subscribe to PGR Missions option.\n Print This Page
URL:https://www.patriotguard.org/mission/blanchard-memorial-day-veterans-recognition/
CATEGORIES:HOTH Mission
END:VEVENT
END:VCALENDAR