BEGIN:VCALENDAR
VERSION:2.0
PRODID:-//Patriot Guard Riders - ECPv5.3.2.1//NONSGML v1.0//EN
CALSCALE:GREGORIAN
METHOD:PUBLISH
X-WR-CALNAME:Patriot Guard Riders
X-ORIGINAL-URL:https://www.patriotguard.org
X-WR-CALDESC:Events for Patriot Guard Riders
BEGIN:VTIMEZONE
TZID:America/New_York
BEGIN:DAYLIGHT
TZOFFSETFROM:-0500
TZOFFSETTO:-0400
TZNAME:EDT
DTSTART:20170312T070000
END:DAYLIGHT
BEGIN:STANDARD
TZOFFSETFROM:-0400
TZOFFSETTO:-0500
TZNAME:EST
DTSTART:20171105T060000
END:STANDARD
END:VTIMEZONE
BEGIN:VEVENT
DTSTART;TZID=America/New_York:20170609T094500
DTEND;TZID=America/New_York:20170609T114500
DTSTAMP:20210402T031423
CREATED:20170609T134500Z
LAST-MODIFIED:20191201T031833Z
UID:323612-1497001500-1497008700@www.patriotguard.org
SUMMARY:Billy Travis\, Veteran\, USA - Korea
DESCRIPTION:Billy Travis\, Veteran \nUSA – Korea \nMayfield\, Kentucky – 09 Jun 2017\n\n[HR][/HR]\nABOUT THE MISSION: \nMr. Travis was a Korea war veteran. Please join us as we stand a flag line and pay a silent tribute to this fallen hero. \n\nPRIMARY STAGING DETAILS: 09 Jun 2017 \n \nPrimary Staging Time: 9:45 A.M.\n\nBrown’s Funeral Home\,\nWest Broadway\,\n\nMayfield\, Kentucky – 42066\n\n\n\n \nRide Captain:\n\nJames Brazil\n270-227-2461\n\n \nSpecial Instructions:\n\n\n\n\n\nFlags & Water:\n\nFlags Will Be Provided\n\nIf you have large bike flags\, please bring them.\n\nWater WILL NOT be provided\, please bring your own.\n\nSubmitted By: Randie Baldree\nPosition: Ride Captain \n[HR][/HR]\nNote:\nYou do not have to own/ride a motorcycle or be a Veteran to join and membership is Free. The only requirement is RESPECT! To join\, simply go to www.PatriotGuard.org and click on Register. Membership is Free. \nTo subscribe to receive mission notices\, log into the National Site and click on the Mission Tab at the top. Select Upcoming Missions by State. Scroll to the state(s) you would like to receive notices for and click on the green check mark. Detailed instructions are also located in the FAQs on the site by clicking on the Quick Links Tab and selecting FAQs
URL:https://www.patriotguard.org/mission/billy-travis-veteran-usa-korea/
END:VEVENT
END:VCALENDAR